BEGIN:VCALENDAR
VERSION:2.0
PRODID:-//Elivia.com - ECPv6.15.20//NONSGML v1.0//EN
CALSCALE:GREGORIAN
METHOD:PUBLISH
X-WR-CALNAME:Elivia.com
X-ORIGINAL-URL:https://elivia.com
X-WR-CALDESC:Events for Elivia.com
REFRESH-INTERVAL;VALUE=DURATION:PT1H
X-Robots-Tag:noindex
X-PUBLISHED-TTL:PT1H
BEGIN:VTIMEZONE
TZID:UTC
BEGIN:STANDARD
TZOFFSETFROM:+0000
TZOFFSETTO:+0000
TZNAME:UTC
DTSTART:20190101T000000
END:STANDARD
END:VTIMEZONE
BEGIN:VEVENT
DTSTART;TZID=UTC:20200711T100000
DTEND;TZID=UTC:20200711T160000
DTSTAMP:20260424T095728
CREATED:20200120T030146Z
LAST-MODIFIED:20200120T030149Z
UID:10000240-1594461600-1594483200@elivia.com
SUMMARY:Psychic\, Healing and Spirit Faire in Hemet
DESCRIPTION:YOUR ANSWERS AND GUIDANCE AWAIT! \nJuly 11\, 2020 10 am-4 pm \nPsychic\, Spirit and Healing Faire in Hemet will be held at the Unity Valley Church\n \nAddress: 140 North Buena Vista Street\, Hemet\, California 92543 \nNo Admission Charge. \nPsychic Readings\, Healings\, Transformation Techniques. Shopping Galore & Good Food\, too! \nTreat yourself to a Reading or Spiritual Help. Talk with\, the “other side” and receive messages from loved ones. \nBe kind to your body with a healing. Understand your life\, and how to avoid pitfalls. \nFun\, Friends\, Connection to like-minded folk. Shop for unique\, hand-crafted items and natural health and healing products. \nReceive answers and clear guidance. And so much more! \nFREE ADMISSION! \nOrganized by Metastudies Institute – Anita and Allen Burns\, and by Holistic Registry\, Tina Foran \nBe sure to stop by my booth when you’re at the Psychic\, Healing and Spirit Faire in Menifee Treat yourself to a very special selection of wonderful crystals\, gems\, minerals\, and healing stones for sale. Naturally\, I’ll have plenty of  Crystal Vibrations Music and of course\, crystal singing bowls at prices you can afford!! I have some amazing new Hand-Held bowls that you’ll have to hear to believe! Check out my new carrying cases and come receive a free healing sound bath that day! \nCome out and enjoy the day! \nOrganized by:  MetaStudies Institute – Anita Burns – anitaburns1@gmail.com and  Holistic Registry – Tina Foran – insight2change@yahoo.com
URL:https://elivia.com/single-post-name/psychic-healing-and-spirit-faire-in-hemet/
LOCATION:Unity Valley Church\, 140 North Buena Vista Street\, Hemet\, CA\, 92543\, United States
CATEGORIES:Psychic Fair
ATTACH;FMTTYPE=image/jpeg:https://elivia.com/wp-content/uploads/2020/01/Yucaipa-Oracle-Fest.jpg
END:VEVENT
END:VCALENDAR