BEGIN:VCALENDAR
VERSION:2.0
PRODID:-//Elivia.com - ECPv6.15.20//NONSGML v1.0//EN
CALSCALE:GREGORIAN
METHOD:PUBLISH
X-WR-CALNAME:Elivia.com
X-ORIGINAL-URL:https://elivia.com
X-WR-CALDESC:Events for Elivia.com
REFRESH-INTERVAL;VALUE=DURATION:PT1H
X-Robots-Tag:noindex
X-PUBLISHED-TTL:PT1H
BEGIN:VTIMEZONE
TZID:UTC
BEGIN:STANDARD
TZOFFSETFROM:+0000
TZOFFSETTO:+0000
TZNAME:UTC
DTSTART:20190101T000000
END:STANDARD
END:VTIMEZONE
BEGIN:VEVENT
DTSTART;TZID=UTC:20200208T133000
DTEND;TZID=UTC:20200208T163000
DTSTAMP:20260424T130453
CREATED:20200120T035536Z
LAST-MODIFIED:20200120T035536Z
UID:10000243-1581168600-1581179400@elivia.com
SUMMARY:Intentions of the Heart
DESCRIPTION:This is a private event for members of the San Diego Reiki Corps. \nNot a member of the San Diego Reiki Corps? You can support this dynamic non-profit by signing up today and take immediate advantage of their energetically wonderful offerings!!! \n \nKick off your Creative Mojo and Access your Heart Intuition. We’ll be decorating glass hearts\, creating “Soulscapes” instead of landscapes and jewelry for your body or home. \nFebruary – Valentines and love come to mind\, so join us to express your intentions of the heart in various ways. Decorate a beautiful glass\nheart. Reveal your inner spirit with paintings called “soulscapes” rather than landscapes. (Don’t worry…..no artistic talent\nrequired\, just your desire for a message from your\ninner self.) \nElivia will be supplying gemstones and crystals for this event as well as bringing lots of Hearts and Crystal stone beings to share. \nMembers $25 Non-members $30\nRegister before Feb 2 at SanDiegoReikiCorps.org \nFor more information please visit the San Diego Reiki Corps website. \n  \n  \n 
URL:https://elivia.com/single-post-name/intentions-of-the-heart/
LOCATION:Unity of San Diego\, 3770 Altadena Ave\, San Diego\, CA\, 92105-3099\, United States
CATEGORIES:Special Event
ATTACH;FMTTYPE=image/jpeg:https://elivia.com/wp-content/uploads/2020/01/Feb-8th-Gathering-Creative-Mojo-1.jpg
END:VEVENT
END:VCALENDAR