BEGIN:VCALENDAR
VERSION:2.0
PRODID:-//Elivia.com - ECPv6.15.20//NONSGML v1.0//EN
CALSCALE:GREGORIAN
METHOD:PUBLISH
X-WR-CALNAME:Elivia.com
X-ORIGINAL-URL:https://elivia.com
X-WR-CALDESC:Events for Elivia.com
REFRESH-INTERVAL;VALUE=DURATION:PT1H
X-Robots-Tag:noindex
X-PUBLISHED-TTL:PT1H
BEGIN:VTIMEZONE
TZID:UTC
BEGIN:STANDARD
TZOFFSETFROM:+0000
TZOFFSETTO:+0000
TZNAME:UTC
DTSTART:20190101T000000
END:STANDARD
END:VTIMEZONE
BEGIN:VEVENT
DTSTART;TZID=UTC:20220522T123000
DTEND;TZID=UTC:20220522T143000
DTSTAMP:20260424T030116
CREATED:20220514T221823Z
LAST-MODIFIED:20220514T221823Z
UID:10000371-1653222600-1653229800@elivia.com
SUMMARY:Spirit Message Circle
DESCRIPTION:Join us after the Lecture Service in the Healing Temple at Harmony Grove Spiritualist Assn. for a Message Circle with Rev. Elivia Melodey.  \nTime: 12:30 pm – 2:30 pm \nLocation: Healing Temple\, Harmony Grove Spiritualist Assn.  \n\n\n\nThis Message Circle with Elivia Melodey is open to the public\, with no reservation necessary. \nHere’s a brief description\, just in case you’re thinking of hosting your own!! \nIf you’ve never attended a Messages from Spirit Circle by Rev. Elivia Melodey\, you’re in for a treat. As a Medium\, she works with your angels\, teachers\, and Guides to bring you messages to help you to move forward with confidence and ease. The ground rules are that all messages are uplifting and supportive\, and never embarrassing. Together with her Guides\, Elivia is know to channel Ascended Masters\, Spirit Guides such as your Master Teacher\, Healer and Guardian Angel\, as well as loved ones in Spirit who have crossed over. Questions are always permitted after the initial messages have been given. The “Master of Ceremonies” at most of Elivia’s Messages Circles is her Joy Guide\, Barbara Joy. This wise old soul\, who appears as a young girl delivers the most heart-felt and profoundly empowering information and teachings in a joyous and often humorous manner. \n The sunflower is the symbol for Spiritualism as it always turns its head toward the Light.\nPlease Note: Rev. Elivia can travel to the comfort of your own home\, for your group\, family\, or organization.  If you would prefer to have Rev. Elivia come to your home for a Group Message circle or Family Gathering a travel fee will apply depending on travel time and distance.  Please contact Elivia by email or phone 888-712-3833 for additional information. \nMessage Circles are limited in attendance to 15 people and last approximately 2 – 3 hours. \nIf you would like to schedule a Private Message Circle with Rev. Elivia\, Call 760 593-4544 or contact Elivia. \n\n\n\n~~~~~~~~~~~~~~~~~~~~~~~~~~~~~~~~~~~~~~~~~~~~~~~~~~~~~~~~~~ \nReverend Elivia Melodey \n \nClairvoyant from birth\, Rev. Elivia Melodey developed her innate ability to read energy dowsing as a child. She studied at the Dutch Royal Academy and holds a Masters in Fine Art. She was ordained in 1985 by Rev. Nancy Tappe at Kai-ros Institute and was sanctioned as a Spiritualist minister at Harmony Grove in 2001. She served 4 terms on the Harmony Grove Board of Directors. \nRev. Elivia holds numerous Masters level certifications for an array of energy healing practices and is a Board certified Past Life Regression and Hypnotherapist. As a conscious trance medium\, she has the ability to communicate with many realms and dimensions. \nShe is an internationally acclaimed recording artist whose channeled music is highlighted in the documentary film\, “Vibration for Healing – Sounds that Heal.” \nRev. Elivia is an accomplished inspirational speaker and has been a keynote and workshop presenter for many spiritually based conferences. Over the last 37 years\, she has held numerous on-going development classes\, workshops and retreats as well as working with thousands of private clients.
URL:https://elivia.com/single-post-name/spirit-message-circle/
LOCATION:Harmony Grovew Spiritualist Association\, 2975 Washington Circle\, Escondido\, CA\, 92029\, United States
CATEGORIES:Message Circles
ATTACH;FMTTYPE=image/jpeg:https://elivia.com/wp-content/uploads/2020/01/Mediumship-1.jpg
END:VEVENT
BEGIN:VEVENT
DTSTART;TZID=UTC:20220522T103000
DTEND;TZID=UTC:20220522T120000
DTSTAMP:20260424T030116
CREATED:20220514T205931Z
LAST-MODIFIED:20220514T215354Z
UID:10000370-1653215400-1653220800@elivia.com
SUMMARY:Guest Minister~Harmony Grove Spiritualist Assn.
DESCRIPTION:Rev. Elivia Melodey will be the guest minister for the Lecture Service at Harmony Grove Spiritualist  Assn. in Escondido.  \nAs an inspirational speaker\, you are sure to be uplifted and inspired by the words she’ll have to share that day. So I hope you can join us. \nService Times\nJoin us every Sunday for some spiritual love and guidance. \nThis service will be held inside at the Healing Temple.   \n\n\n\nHealing Service: 10:30 am – 11:00 am\nSunday Service: 10:30 am – 12:00 pm\n\n\n\nHarmony Grove Spiritualist Association is located on 13 acres in a beautiful oak tree grove a few miles west of Escondido. The association was formed and incorporated in 1896 to further the teaching of spiritualism as a religion\, philosophy and science. \nSpiritualism is the Science\, Philosophy and Religion of continuous life\, based upon the demonstrated fact of communication by means of mediumship with those who live in the Spirit World. \nSpiritualism is a Science because it investigates\, analyzes and classifies facts and manifestations demonstrated from the Spirit side of life. \nSpiritualism is a Philosophy because it studies the laws of Nature both on the seen and unseen sides of life and bases its conclusions upon present observed facts. It accepts statements of observed facts of past ages and conclusions drawn there from\, when sustained by reason and by results of observed facts of the present day. \nSpiritualism is a Religion because it strives to understand and to comply with the Physical\, Mental and Spiritual Laws of Nature\, which are the laws of God. \n \nReverend Elivia Melodey \n \nClairvoyant from birth\, Rev. Elivia Melodey developed her innate ability to read energy dowsing as a child. She studied at the Dutch Royal Academy and holds a Masters in Fine Art. She was ordained in 1985 by Rev. Nancy Tappe at Kai-ros Institute and was sanctioned as a Spiritualist minister at Harmony Grove in 2001. She served 4 terms on the Harmony Grove Board of Directors. \nRev. Elivia holds numerous Masters level certifications for an array of energy healing practices and is a Board certified Past Life Regression and Hypnotherapist. As a conscious trance medium\, she has the ability to communicate with many realms and dimensions. \nShe is an internationally acclaimed recording artist whose channeled music is highlighted in the documentary film\, “Vibration for Healing – Sounds that Heal.” \nRev. Elivia is an accomplished inspirational speaker and has been a keynote and workshop presenter for many spiritually based conferences. Over the last 37 years\, she has held numerous on-going development classes\, workshops and retreats as well as working with thousands of private clients.
URL:https://elivia.com/single-post-name/guest-minister-at-harmony-grove-spiritualist-association-escondido/
LOCATION:Harmony Grovew Spiritualist Association\, 2975 Washington Circle\, Escondido\, CA\, 92029\, United States
CATEGORIES:Church Service
ATTACH;FMTTYPE=image/png:https://elivia.com/wp-content/uploads/2022/05/‫Z-HGSA_Logo.png
END:VEVENT
BEGIN:VEVENT
DTSTART;TZID=UTC:20200301T130000
DTEND;TZID=UTC:20200301T150000
DTSTAMP:20260424T030116
CREATED:20200122T231540Z
LAST-MODIFIED:20200122T231540Z
UID:10000249-1583067600-1583074800@elivia.com
SUMMARY:Messages from Spirit Mediumship Circle
DESCRIPTION:This Message Circle will be held in the Healing Temple at Harmony Grove. This Message Circle with Elivia Melodey is open to the public\, with no reservation necessary. \nHere’s a brief description\, just in case you’re thinking of hosting your own!! \nIf you’ve never attended a Messages from Spirit Circle by Rev. Elivia Melodey\, you’re in for a treat. As a Medium\, she works with your angels\, teachers\, and Guides to bring you messages to help you to move forward with confidence and ease. The ground rules are that all messages are uplifting and supportive\, and never embarrassing. Together with her Guides\, Elivia is known to channel Ascended Masters\, Spirit Guides such as your Master Teacher\, Healer\, and Guardian Angel\, as well as loved ones in Spirit who have crossed over. Questions are always permitted after the initial messages have been given. The “Master of Ceremonies” at most of Elivia’s Messages Circles is her Joy Guide\, Barbara Joy. This wise old soul\, who appears as a young girl delivers the most heartfelt and profoundly empowering information and teachings in a joyous and often humorous manner. \nPlease Note: Rev. Elivia can travel to the comfort of your own home\, for your group\, family\, or organization.  If you would prefer to have Rev. Elivia come to your home for a Group Message circle or Family Gathering a travel fee will apply depending on travel time and distance.  Please contact Elivia by email or phone 888-712-3833 for additional information. \nMessage Circles are limited in attendance to 15 people and last approximately 2 – 3 hours. \nIf you would like to schedule a Private Message Circle with Rev. Elivia\, Call 760 593-4544 or contact Elivia. \n\n\n\n~~~~~~~~~~~~~~~~~~~~~~~~~~~~~~~~~~~~~~~~~~~~~~~~~~~~~~~~~~ \nElivia Melodey developed her innate ability to read energy\, dowsing as a child. She’s a Spiritual channel and a vibrational healer as well as an inspirational speaker and founder of the Crystal Vibrations Music Label. A gifted conscious trance medium\, she has the ability to communicate with those who have crossed over as well as with many other Light realms.  Channeling the music of the Angels\, her critically acclaimed music is used in healing and spiritual centers around the world.
URL:https://elivia.com/single-post-name/messages-from-spirit-mediumship-circle-2/
LOCATION:Harmony Grovew Spiritualist Association\, 2975 Washington Circle\, Escondido\, CA\, 92029\, United States
CATEGORIES:Message Circles
ATTACH;FMTTYPE=image/jpeg:https://elivia.com/wp-content/uploads/2020/01/Sunflower.jpg
END:VEVENT
BEGIN:VEVENT
DTSTART;TZID=UTC:20200301T103000
DTEND;TZID=UTC:20200301T120000
DTSTAMP:20260424T030116
CREATED:20200122T225715Z
LAST-MODIFIED:20200122T233010Z
UID:10000247-1583058600-1583064000@elivia.com
SUMMARY:Guest Minister at Harmony Grove Spiritualist Assn.
DESCRIPTION:You are cordially invited to join Elivia this Sunday where she will be the Guest Minister at Harmony Grove Spiritualist Association. She has been serving Harmony Grove as a Guest Minister for over 18 years. A conscious trance medium\, Elivia’s lectures are always inspiring\, uplifting and thought-provoking. \nHealing Service at Harmony Grove Spiritualist Association is at 10:30 with inspired music by Elivia on her singing crystal bowls. All are welcome to attend. \nLecture Service at  Harmony Grove Spiritualist Association is at 11:00 AM\, with Elivia as the Guest Minister. All Spiritualist church services provide a segment where there are Messages of Greeting and love given from the Spirit Realm. These provide evidence that communication with the dead is a so-called fact\, as evidenced with confirmation from the receivers. Not everyone in attendance will receive a \nThe sunflower is the symbol for Spiritualism as it always turns its face toward the sun.\nmessage\, but often the messages are uplifting for all. \n  \nFellowship Hall will be open afterward for light refreshments\, so join us! \nFollowing the Harmony Grove Spiritualist Association service at 1:00\, Elivia will host a Message Circle in the Healing Temple. \n~~~~~~~~~~~~~~~~~~~~~~~~~~~~~~~ \nBio: Reverend Elivia Melodey \nClairvoyant from birth\, Rev. Elivia Melodey developed her innate ability to read energy dowsing as a child.  She studied art at the Dutch Royal Academy and holds a Masters in Fine Art. She was ordained in 1985 by Nancy Tappe at Kairos Institute and was sanctioned as a Spiritualist minister at Harmony Grove in 2001. She served 4 terms on the Harmony Grove Board of Directors and was a founding member of the Educational Program. \nRev. Elivia holds numerous Masters level certifications for an array of Energy Healing Practices and is a Board-certified Past Life Regression and Hypnotherapist. As a conscious and deep trance medium\, she has the ability to communicate with those who have crossed over as well as with many other realms and dimensions. \nShe is an internationally acclaimed recording artist whose channeled music is used in healing and spiritual centers around the world. Her expertise is highlighted in the documentary film\, “Vibration for Healing – Sounds that Heal” \nRev. Elivia is an accomplished inspirational speaker and has been a  keynote & workshop presenter for many Spiritually based National Conferences. Over the last 35 years\, she has held numerous on-going classes\, workshops\, and retreats on Spiritual development as well as working with thousands of private clients.
URL:https://elivia.com/single-post-name/guest-minister-at-harmony-grove-spiritualist-assn-2/
LOCATION:Harmony Grovew Spiritualist Association\, 2975 Washington Circle\, Escondido\, CA\, 92029\, United States
CATEGORIES:Church Service
ATTACH;FMTTYPE=image/jpeg:https://elivia.com/wp-content/uploads/2020/01/hgsalogo22_copy.jpg
END:VEVENT
END:VCALENDAR