BEGIN:VCALENDAR
VERSION:2.0
PRODID:-//Elivia.com - ECPv6.15.20//NONSGML v1.0//EN
CALSCALE:GREGORIAN
METHOD:PUBLISH
X-WR-CALNAME:Elivia.com
X-ORIGINAL-URL:https://elivia.com
X-WR-CALDESC:Events for Elivia.com
REFRESH-INTERVAL;VALUE=DURATION:PT1H
X-Robots-Tag:noindex
X-PUBLISHED-TTL:PT1H
BEGIN:VTIMEZONE
TZID:UTC
BEGIN:STANDARD
TZOFFSETFROM:+0000
TZOFFSETTO:+0000
TZNAME:UTC
DTSTART:20200101T000000
END:STANDARD
END:VTIMEZONE
BEGIN:VEVENT
DTSTART;TZID=UTC:20220710T100000
DTEND;TZID=UTC:20220710T150000
DTSTAMP:20260424T082332
CREATED:20220610T044517Z
LAST-MODIFIED:20220610T044523Z
UID:10000226-1657447200-1657465200@elivia.com
SUMMARY:Guest Minister at 1st Spiritualist Church
DESCRIPTION:Rev. Elivia Melodey will be the guest minister for the Lecture Service. As an inspirational speaker\, you are sure to be uplifted and inspired by the words she’ll have to share that day. So I hope you can join us. \n10 am: Healing Service \n11 am: Lecture Service \n1 pm: Message Circle \n  \nThe First Spiritualist Church of San Diego has had a long and colorful history\, playing a major role in the development of Spiritualism in San Diego for more than one hundred years. It has progressed with the times\, seeing many changes in San Diego as well as within its own parameters. They believe and affirm that life continues past the death of the physical body and that is possible to communicate with those in Spirit. \nAt the Message Circle\, you’ll receive guidance for your highest and best good to support  you in all ways. Messages are always deeply supportive and non-embarrassing. \n~~~~~~~~~~~~~~~~~~~~~~~~~~~~~~~~~~ \nRev. Elivia Melodey  \nClairvoyant from birth\, Elivia Melodey developed her innate ability to read energy dowsing as a child. She studied at the Dutch Royal Academy and holds a Masters in Fine Art. She was ordained in 1985 by Rev. Nancy Tappe at Kairos Institute and was sanctioned as a Spiritualist minister at Harmony Grove Spiritualist Assn. in 2001. She served 4 terms on the Harmony Grove Board of Directors. \nElivia holds numerous Masters level certifications for an array of energy healing practices and is a Board certified Past Life Regression and Hypnotherapist. As a conscious trance channel\, she has the ability to communicate with many realms and dimensions. \nShe is an internationally acclaimed recording artist whose channeled music is highlighted in the documentary film\, “Vibration for Healing – Sounds that Heal.” \nRev. Elivia is an accomplished inspirational speaker and has been a keynote and workshop presenter for many spiritually based conferences. Over the last 37 years\, she has held numerous on-going development classes\, workshops and retreats as well as working with thousands of private clients. \n  \n 
URL:https://elivia.com/single-post-name/guest-minister-at-1st-spiritualist-church/
LOCATION:1st Spiritualist Church of San Diego\, 3777 42nd St\, San Diego\, CA\, 92116\, United States
CATEGORIES:Church Service
ATTACH;FMTTYPE=image/jpeg:https://elivia.com/wp-content/uploads/2016/12/1st-Spiritualist-Church-of-San-Diego-Guest-Minister.jpg
END:VEVENT
BEGIN:VEVENT
DTSTART;TZID=UTC:20211010T110000
DTEND;TZID=UTC:20211010T143000
DTSTAMP:20260424T082332
CREATED:20210907T232906Z
LAST-MODIFIED:20210907T233615Z
UID:10000175-1633863600-1633876200@elivia.com
SUMMARY:Guest Minister & Message Circle
DESCRIPTION:Rev. Elivia Melodey will be the guest minister for the Lecture Service and following the service\, she’ll be holding a Message Circle. As an inspirational speaker\, you are sure to be uplifted and inspired by the words she’ll have to share that day. So I hope you can join us. \n10 am: Healing Service \n11 am: Lecture Service \n1 pm: Message Circle \n \nThe First Spiritualist Church of San Diego has had a long and colorful history\, playing a major role in the development of Spiritualism in San Diego for more than one hundred years. It has progressed with the times\, seeing many changes in San Diego as well as within its own parameters. They believe and affirm that life continues past the death of the physical body and that is possible to communicate with those in Spirit. \nAt the Message Circle\, you’ll receive guidance for your highest and best good to support  you in all ways. Messages are always deeply supportive and non-embarrassing.
URL:https://elivia.com/single-post-name/guest-minister-message-circle/
LOCATION:1st Spiritualist Church of San Diego\, 3777 42nd St\, San Diego\, CA\, 92116\, United States
CATEGORIES:Church Service,Message Circles
ATTACH;FMTTYPE=image/jpeg:https://elivia.com/wp-content/uploads/2016/07/1st-Spiritualist-Church.jpg
END:VEVENT
END:VCALENDAR