BEGIN:VCALENDAR
VERSION:2.0
PRODID:-//Elivia.com - ECPv6.15.20//NONSGML v1.0//EN
CALSCALE:GREGORIAN
METHOD:PUBLISH
X-ORIGINAL-URL:https://elivia.com
X-WR-CALDESC:Events for Elivia.com
REFRESH-INTERVAL;VALUE=DURATION:PT1H
X-Robots-Tag:noindex
X-PUBLISHED-TTL:PT1H
BEGIN:VTIMEZONE
TZID:UTC
BEGIN:STANDARD
TZOFFSETFROM:+0000
TZOFFSETTO:+0000
TZNAME:UTC
DTSTART:20200101T000000
END:STANDARD
END:VTIMEZONE
BEGIN:VEVENT
DTSTART;TZID=UTC:20221112T130000
DTEND;TZID=UTC:20221112T160000
DTSTAMP:20260424T130509
CREATED:20220924T211401Z
LAST-MODIFIED:20220924T211404Z
UID:10000248-1668258000-1668268800@elivia.com
SUMMARY:Messages from Spirit Circle – SDRC Private Event
DESCRIPTION:This In person Messages from Spirit Circle SDRC Private Event has become an annual favorite with our healing community. At this special November Offering for all San Diego Reiki Corps Members-Only Event\, Rev. Elivia will be offering a Message from Spirit for Each of Us! \nReverend Elivia Melodey is an ordained Spiritualist medium with clairaudient\, clairvoyant\, and clairsentient abilities. Dedicated to personal and world healing\, she offers a wide variety of services. At this event\, Elivia will be bringing a selection of crystals for sale. \nNot a member of the San Diego Reiki Corps? You can support this dynamic non-profit by signing up today and take immediate advantage of their energetically wonderful offerings!!! \nThis event is limited to 30 people. Get your reservation in early as this will Sell Out!! \nThis private event will be held in Escondido\, CA. Once you register\, you’ll be given the address.  \nGo to San Diego Reiki Corp’s site to Register Today!! \nAs a Spiritual Medium\, Rev. Elivia Melodey also offers counseling sessions for individuals\, couples\, families and group Message Circles. She is a Past Life Regression therapist and Master Light worker\, who is\nalso available for remote and in-person Clearing session for healing and personal Sound Attunements. As a minister\, Rev. Elivia conducts lecture services\, ceremonies and performs sacred music presentation. \nAbout the San Diego Reiki Corps \n \nThe primary objective of the San Diego Reiki Corps is to create a Reiki community in which its members can join together to educate\, support\, and share experiences among ourselves and with others in the ways of self mastery through the practice of Reiki. The secondary objective is to work toward individual and collective growth to benefit all members\, all clients\, and all who come to share their healing journey and Reiki with us. \nTo achieve these objectives\, the San Diego Reiki Corps works to bring the Reiki community together\, provides healing services to our local communities\, and conducts educational classes for both members and the general public. We hold quarterly gatherings to provide opportunities for networking and presentations from experts on topics of interest. We also publish quarterly News Letters to keep our members informed about our activities and to solicit support for community events and activities. \nThe San Diego Reiki Corps\, Inc. was officially established in May 2009 as a 501(c)(3)\, non-profit\, and a federally classified public charity\, under the educational banner.
URL:https://elivia.com/single-post-name/messages-from-spirit-circle-sdrc-private-event/
LOCATION:Private home in Escondido\, CA
CATEGORIES:Message Circles
ATTACH;FMTTYPE=image/jpeg:https://elivia.com/wp-content/uploads/2021/09/Reiki.jpg
END:VEVENT
BEGIN:VEVENT
DTSTART;TZID=UTC:20211113T140000
DTEND;TZID=UTC:20211113T170000
DTSTAMP:20260424T130509
CREATED:20210908T185039Z
LAST-MODIFIED:20210908T185039Z
UID:10000178-1636812000-1636822800@elivia.com
SUMMARY:Messages from Spirit Circle – SDRC Private Event
DESCRIPTION:This Messages from Spirit Circle SDRC Private Event has become an annual favorite with our healing community. At this special October Offering for all San Diego Reiki Corps Members-Only Event\, Rev. Elivia will be offering a Message from Spirit for Each of Us! \nReverend Elivia Melodey is an ordained Spiritualist medium with clairaudient\, clairvoyant\, and clairsentient abilities. Dedicated to personal and world healing\, she offers a wide variety of services. \nNot a member of the San Diego Reiki Corps? You can support this dynamic non-profit by signing up today and take immediate advantage of their energetically wonderful offerings!!! \nThis event is limited to 30 people. Get your reservation in early as this will Sell Out!! \nThis event will be updated as to the time\, location and cost. It will most likely be a virtual event and if possible\, in person. So please stay tuned \nGo to San Diego Reiki Corp’s site to Register Today!! \nAs a Spiritual Medium\, Rev. Elivia Melodey also offers counseling sessions for individuals\, couples\, families and group Message Circles. She is a Past Life Regression therapist and Master Light worker\, who is\nalso available for remote and in-person Clearing session for healing and personal Sound Attunements. As a minister\, Rev. Elivia conducts lecture services\, ceremonies and performs sacred music presentation. \nAbout the San Diego Reiki Corps \n \nThe primary objective of the San Diego Reiki Corps is to create a Reiki community in which its members can join together to educate\, support\, and share experiences among ourselves and with others in the ways of self mastery through the practice of Reiki. The secondary objective is to work toward individual and collective growth to benefit all members\, all clients\, and all who come to share their healing journey and Reiki with us. \nTo achieve these objectives\, the San Diego Reiki Corps works to bring the Reiki community together\, provides healing services to our local communities\, and conducts educational classes for both members and the general public. We hold quarterly gatherings to provide opportunities for networking and presentations from experts on topics of interest. We also publish quarterly News Letters to keep our members informed about our activities and to solicit support for community events and activities. \nThe San Diego Reiki Corps\, Inc. was officially established in May 2009 as a 501(c)(3)\, non-profit\, and a federally classified public charity\, under the educational banner.
URL:https://elivia.com/single-post-name/messages-from-spirit-circle/
CATEGORIES:Message Circles
ATTACH;FMTTYPE=image/jpeg:https://elivia.com/wp-content/uploads/2021/09/Reiki.jpg
END:VEVENT
END:VCALENDAR