BEGIN:VCALENDAR
VERSION:2.0
PRODID:-//Elivia.com - ECPv6.15.20//NONSGML v1.0//EN
CALSCALE:GREGORIAN
METHOD:PUBLISH
X-ORIGINAL-URL:https://elivia.com
X-WR-CALDESC:Events for Elivia.com
REFRESH-INTERVAL;VALUE=DURATION:PT1H
X-Robots-Tag:noindex
X-PUBLISHED-TTL:PT1H
BEGIN:VTIMEZONE
TZID:UTC
BEGIN:STANDARD
TZOFFSETFROM:+0000
TZOFFSETTO:+0000
TZNAME:UTC
DTSTART:20250101T000000
END:STANDARD
END:VTIMEZONE
BEGIN:VEVENT
DTSTART;TZID=UTC:20260407T190000
DTEND;TZID=UTC:20260407T210000
DTSTAMP:20260424T001137
CREATED:20251223T204836Z
LAST-MODIFIED:20251223T204836Z
UID:10000544-1775588400-1775595600@elivia.com
SUMMARY:Intermediate Psychic Mediumship Development Class Series Virtual
DESCRIPTION:Intermediate Psychic Mediumship Development Class Series Virtual \nIntermediate Level Mediumship Development Classes with Elivia Melodey in San Marcos.\nIntermediate Psychic Mediumship Development Class Series with Elivia Melodey in San Marcos – Virtual on Zoom. \nThis 15-week series for Intermediate Psychic Mediumship Development class will meet virtually (on Zoom) on Tuesdays through the end of April. Taught by Spiritualist Medium\, Elivia Melodey. It will focus on fine-tuning your ability to work with  Light Beings\, Angels\, and Spirit Guides. It will also focus on discerning and understanding unseen energies. \nEach intermediate class series is uniquely tailored to the attending students\, so the focus can easily shift from what is listed. \nAfter laying the foundation (covering cleansing & protection\, Unseen energies\, Universal Laws\, Working with Guides\, Chakras\, etc.)\, students will further develop their clairaudience\, clairvoyance\, and clairsentience abilities. Students will learn to work with the differing energy frequencies of their Guides – both Inner Band and Ascension Guides. Each intermediate class series is uniquely tailored to the attending students\, so the focus can easily shift from what is listed to jumping timelines. In this Intermediate Mediumship Development class\, we will continue to work with evidential mediumship\, fine-tuning each student’s abilities to connect with and discern loved ones who have crossed over. We’ll also review our medical intuition skills\, and play with frequency flying. \nThis class will include Meditation\, Message delivery\, and energy alchemy. \nPresently\, this is a Virtual\, Online Mediumship Development Class.  To prepare for class\, be sure to wear comfortable clothing and have a notebook handy if you enjoy taking notes. \nThis class is open to new students by permission. Please contact Elivia if you feel called to join us. \nThe fee for each class is $20.00\, payable each week through Paypal\, Venmo\, Zelle or by check. \nYou can also pay in full the full class amount of $300. \nTo register\, call 760-471-7304 or email Elivia to RSVP. \nThe Zoom link and any payment details will be emailed to you upon registration. \n~~~~~~~~~~~~~~~~~~ \nRev. Elivia Melodey has been a practicing Spiritualist medium since 1985. She is the former Director of Education at Harmony Grove Spiritualist Association in San Diego and is highly respected for her accuracy and Mediumship Development skills. Many of her past students are now professional mediums. She has been a keynote speaker at numerous national conferences and has been featured in many media outlets.
URL:https://elivia.com/single-post-name/intermediate-psychic-mediumship-development-class-series-virtual-25/
LOCATION:Virtual on Zoom\, 971 Borden Rd\, San Marcos\, CA\, 92069\, United States
CATEGORIES:Classes/Workshops,Mediumship Development
ATTACH;FMTTYPE=image/jpeg:https://elivia.com/wp-content/uploads/2015/06/six-pointed-star-e1536277168122.jpg
ORGANIZER;CN="Elivia Melodey":MAILTO:eliviamelodey@sbcglobalnet
END:VEVENT
END:VCALENDAR