BEGIN:VCALENDAR
VERSION:2.0
PRODID:-//Elivia.com - ECPv6.15.20//NONSGML v1.0//EN
CALSCALE:GREGORIAN
METHOD:PUBLISH
X-WR-CALNAME:Elivia.com
X-ORIGINAL-URL:https://elivia.com
X-WR-CALDESC:Events for Elivia.com
REFRESH-INTERVAL;VALUE=DURATION:PT1H
X-Robots-Tag:noindex
X-PUBLISHED-TTL:PT1H
BEGIN:VTIMEZONE
TZID:UTC
BEGIN:STANDARD
TZOFFSETFROM:+0000
TZOFFSETTO:+0000
TZNAME:UTC
DTSTART:20240101T000000
END:STANDARD
END:VTIMEZONE
BEGIN:VEVENT
DTSTART;TZID=UTC:20250101T140000
DTEND;TZID=UTC:20250101T163000
DTSTAMP:20260425T164320
CREATED:20241128T004718Z
LAST-MODIFIED:20241128T005401Z
UID:10000452-1735740000-1735749000@elivia.com
SUMMARY:2025 New Years Predictions Message Circle
DESCRIPTION:What does 2025 hold in store for you? At this New Years Predictions Message Circle discover what Spirit has in store for you with Spiritual Medium\, Elivia Melodey. \nClick here to make your reservation.  \nHere’s some information about what you can expect at this New Years Prediction Message Circle. \n \nIf you’ve never attended a Message Circle by Rev. Elivia Melodey\, you’re in for a treat. As a Medium\, she works with your angels\, teachers\, and Guides to bring you messages to help you to move forward with confidence and ease. The ground rules are that all messages are uplifting and supportive\, and never embarrassing. Together with her Guides\, Elivia is known to channel Ascended Masters and Spirit Guides such as your Master Teacher\, Healer\, and Guardian Angel\, as well as loved ones in Spirit who have crossed over. \nQuestions are always permitted after the initial messages have been given. The “Master of Ceremonies” at most of Elivia’s Messages Circles is her Joy Guide\, Barbara Joy. This wise old soul\, who appears as a young girl delivers the most heartfelt and profoundly empowering information and teachings in a joyous and often humorous manner. \nSpace is limited to 20 people so RSVP early as this event will sell out.  \nClick here to make your reservation.  \n~~~~~~~~~~~~~~~~~~~~~~~~~~~~~~~~~~~~~~~~ \nIf you’d like to host your own Private Message Circle – Virtual or in Person\, just contact Elivia.  \nPlease Note: Rev. Elivia can travel to the comfort of your own home\, for your group\, family\, or organization.  If you would prefer to have Rev. Elivia come to your home for a Group Message circle or Family Gathering a travel fee will apply depending on travel time and distance.  Please contact Elivia by email or phone 888-712-3833 for additional information. \nIf you would like to schedule a Message Circle with Rev. Elivia\, Call 760 593-4544 or contact Elivia. \n 
URL:https://elivia.com/single-post-name/2025-new-years-predictions-message-circle/
LOCATION:Private home in San Marcos\, San Marcos\, CA\, 92069\, United States
CATEGORIES:Message Circles,Special Event
ATTACH;FMTTYPE=image/jpeg:https://elivia.com/wp-content/uploads/2023/11/Banner-Flower-of-life.jpg
ORGANIZER;CN="Elivia Melodey":MAILTO:eliviamelodey@sbcglobalnet
END:VEVENT
END:VCALENDAR