BEGIN:VCALENDAR
VERSION:2.0
PRODID:-//Elivia.com - ECPv6.15.20//NONSGML v1.0//EN
CALSCALE:GREGORIAN
METHOD:PUBLISH
X-ORIGINAL-URL:https://elivia.com
X-WR-CALDESC:Events for Elivia.com
REFRESH-INTERVAL;VALUE=DURATION:PT1H
X-Robots-Tag:noindex
X-PUBLISHED-TTL:PT1H
BEGIN:VTIMEZONE
TZID:UTC
BEGIN:STANDARD
TZOFFSETFROM:+0000
TZOFFSETTO:+0000
TZNAME:UTC
DTSTART:20240101T000000
END:STANDARD
END:VTIMEZONE
BEGIN:VEVENT
DTSTART;TZID=UTC:20250114T190000
DTEND;TZID=UTC:20250114T210000
DTSTAMP:20260426T035500
CREATED:20241128T035322Z
LAST-MODIFIED:20241128T035325Z
UID:10000470-1736881200-1736888400@elivia.com
SUMMARY:Intermediate Psychic Mediumship Development Class Virtual
DESCRIPTION:Intermediate Psychic Mediumship Development Class Series Virtual \nIntermediate Level Mediumship Development Classes with Elivia Melodey in San Marcos.\nIntermediate Psychic Mediumship Development Class Series with Elivia Melodey in San Marcos – Virtual on Zoom. \nThis class is a 15-week series for Intermediate Psychic Mediumship Development class which will meet virtually (on Zoom) Tuesdays through the end of April. Taught by Spiritualist Medium\, Elivia Melodey. It will focus on fine-tuning your ability to work with  Light Beings\, Angels and Spirit Guides. It will also focus on discerning and understanding unseen energies. \nEach intermediate class series is uniquely tailored to the attending students\, so the focus can easily shift from what is listed. \nAfter laying the foundation (covering Cleansing & protection\, Unseen energies\, Universal Laws\, Working with Guides\, Chakras etc.) students will further develop their abilities of clairaudience\, clairvoyance\, and clairsentience. Students will learn to work with the differing energy frequencies of their Guides – both Inner Band and Ascension Guides. Each intermediate class series is uniquely tailored to the attending students\, so the focus can easily shift from what is listed to jumping timelines. In this Intermediate Mediumship Development class\, we will continue to work with evidential mediumship;  fine-tuning each student’s abilities to connect with and discern loved ones who have crossed over. We’ll also review our medical intuition skills\, and play with frequency flying. \nThis class will include Meditation\, Message delivery\, and energy alchemy. \nPresently\, this is a Virtual\, Online Mediumship Development Class.  To prepare for class\, be sure to wear comfortable clothing and have a notebook handy if you enjoy taking notes. \nThis class is open to new students\, by permission. Please contact Elivia if you feel called to join us. \nThe fee for each class is $20.00\, payable each week through Paypal\, Venmo\, Zelle or by check. \nYou can also pay in full the full class amount of $300. \nTo register call 760-471-7304 or email Elivia to RSVP. \nThe Zoom link and any payment details will be emailed to you upon registration. \n~~~~~~~~~~~~~~~~~~ \nRev. Elivia Melodey has been a practicing Spiritualist medium since 1985. She is the former Director of Education at Harmony Grove Spiritualist Association in San Diego and is highly respected for her accuracy and Mediumship Development skills. Many of her past students are now professional mediums. She has been a keynote speaker at numerous national conferences and has been featured in many media outlets.
URL:https://elivia.com/single-post-name/intermediate-psychic-mediumship-development-class-virtual-41/
LOCATION:Virtual on Zoom\, 971 Borden Rd\, San Marcos\, CA\, 92069\, United States
CATEGORIES:Classes/Workshops,Mediumship Development
ATTACH;FMTTYPE=image/jpeg:https://elivia.com/wp-content/uploads/2019/12/six-pointed-star.jpg
ORGANIZER;CN="Elivia Melodey":MAILTO:eliviamelodey@sbcglobalnet
END:VEVENT
BEGIN:VEVENT
DTSTART;TZID=UTC:20250115T190000
DTEND;TZID=UTC:20250115T210000
DTSTAMP:20260426T035500
CREATED:20241128T020206Z
LAST-MODIFIED:20241128T020206Z
UID:10000453-1736967600-1736974800@elivia.com
SUMMARY:Beginning Psychic Mediumship Class Virtual
DESCRIPTION:Beginning Psychic Mediumship Class Virtual – Opening to Your Spiritual Gifts \nBeginning Mediumship Development Class\nThis class is a 15-week series for Beginning Psychic Mediumship which will meet virtually on Zoom\, Wednesdays through the end of April. It is taught by Spiritualist Medium\, Elivia Melodey. It will focus on meditation\, creating safe spaces\, meeting your Spirit Guides\, and giving messages. \nStudents may join at any time. Ongoing attendance is recommended for the greatest progress to take place. \nIn this beginning psychic mediumship development\, you will learn to focus and fine-tune your ability to work with and channel Light Beings\, Teachers\, and Guides. Safely learn to navigate through unseen energies and learn discernment in a safe\, supportive atmosphere. \nLearn the difference between psychic and mediumship readings by connecting with Spirit. After laying the foundation covering Cleansing & protection\, Unseen energies\, Universal Laws\, Working with Guides\, Chakras\, etc\, students will further develop their abilities of clairaudience\, clairvoyance\, and clairsentience and learn to work with the differing energy frequencies of their Guides. You will be getting to know and learning about your Spirit Guides and Angels who are with you to support you in all ways. \nThis Beginning Psychic Mediumship virtual class will include Guided Meditation\, Remote viewing\, Reading energies\, Working with the Chakras\, Message delivery\, and Evidential Mediumship and Medical Intuitive practices. \nPresently\, this is a Virtual\, Online Mediumship Development Class.  To prepare for class\, be sure to wear comfortable clothing and have a notebook handy if you enjoy taking notes. \n \nThe fee for each class is $20.00\, payable each week through Paypal\, Venmo\, Zelle or by check. \nYou can also pay in full the full class amount of $300. \nTo register call 760-471-7304 or email Elivia to RSVP. \nThe Zoom link and any payment details will be emailed to you upon registration. \n~~~~~~~~~~~~~~~~~~ \nRev. Elivia Melodey has been a practicing Spiritualist medium since 1985. She is the former Director of Education at Harmony Grove Spiritualist Association in San Diego and is highly respected for her accuracy and Mediumship Development skills. Many of her past students are now professional mediums. She has been a keynote speaker at numerous national conferences and has been featured in many media outlets.
URL:https://elivia.com/single-post-name/beginning-psychic-mediumship-class-virtual-40/
LOCATION:Virtual on Zoom\, 971 Borden Rd\, San Marcos\, CA\, 92069\, United States
CATEGORIES:Classes/Workshops,Mediumship Development
ATTACH;FMTTYPE=image/jpeg:https://elivia.com/wp-content/uploads/2020/01/Mediumship-Hands.jpg
ORGANIZER;CN="Elivia Melodey":MAILTO:eliviamelodey@sbcglobalnet
END:VEVENT
BEGIN:VEVENT
DTSTART;TZID=UTC:20250121T190000
DTEND;TZID=UTC:20250121T210000
DTSTAMP:20260426T035500
CREATED:20241128T212151Z
LAST-MODIFIED:20241128T212809Z
UID:10000471-1737486000-1737493200@elivia.com
SUMMARY:Intermediate Psychic Mediumship Development Class Virtual
DESCRIPTION:Intermediate Psychic Mediumship Development Class Series Virtual \nIntermediate Level Mediumship Development Classes with Elivia Melodey in San Marcos.\nIntermediate Psychic Mediumship Development Class Series with Elivia Melodey in San Marcos – Virtual on Zoom. \nThis 15-week series for Intermediate Psychic Mediumship Development class will meet virtually (on Zoom) on Tuesdays through the end of April. Taught by Spiritualist Medium\, Elivia Melodey. It will focus on fine-tuning your ability to work with  Light Beings\, Angels\, and Spirit Guides. It will also focus on discerning and understanding unseen energies. \nEach intermediate class series is uniquely tailored to the attending students\, so the focus can easily shift from what is listed. \nAfter laying the foundation (covering Cleansing & protection\, Unseen energies\, Universal Laws\, Working with Guides\, Chakras etc.) students will further develop their clairaudience\, clairvoyance\, and clairsentience abilities. Students will learn to work with the differing energy frequencies of their Guides – both Inner Band and Ascension Guides. Each intermediate class series is uniquely tailored to the attending students\, so the focus can easily shift from what is listed to jumping timelines. In this Intermediate Mediumship Development class\, we will continue to work with evidential mediumship;  fine-tuning each student’s abilities to connect with and discern loved ones who have crossed over. We’ll also review our medical intuition skills\, and play with frequency flying. \nThis class will include Meditation\, Message delivery\, and energy alchemy. \nPresently\, this is a Virtual\, Online Mediumship Development Class.  To prepare for class\, be sure to wear comfortable clothing and have a notebook handy if you enjoy taking notes. \nThis class is open to new students\, by permission. Please get in touch with Elivia if you feel called to join us. \nThe fee for each class is $20.00\, payable each week through Paypal\, Venmo\, Zelle or by check. \nYou can also pay in full the full class amount of $300. \nTo register call 760-471-7304 or email Elivia to RSVP. \nThe Zoom link and any payment details will be emailed to you upon registration. \n~~~~~~~~~~~~~~~~~~ \nRev. Elivia Melodey has been a practicing Spiritualist medium since 1985. She is the former Director of Education at Harmony Grove Spiritualist Association in San Diego and is highly respected for her accuracy and Mediumship Development skills. Many of her past students are now professional mediums. She has been a keynote speaker at numerous national conferences and has been featured in many media outlets.
URL:https://elivia.com/single-post-name/intermediate-psychic-mediumship-development-class-virtual-42-2/
LOCATION:Virtual on Zoom\, 971 Borden Rd\, San Marcos\, CA\, 92069\, United States
CATEGORIES:Classes/Workshops,Mediumship Development
ATTACH;FMTTYPE=image/jpeg:https://elivia.com/wp-content/uploads/2020/01/six-pointed_star-e1700692553117.jpg
ORGANIZER;CN="Elivia Melodey":MAILTO:eliviamelodey@sbcglobalnet
END:VEVENT
BEGIN:VEVENT
DTSTART;TZID=UTC:20250122T190000
DTEND;TZID=UTC:20250122T210000
DTSTAMP:20260426T035500
CREATED:20241128T020558Z
LAST-MODIFIED:20241128T023605Z
UID:10000454-1737572400-1737579600@elivia.com
SUMMARY:Beginning Psychic Mediumship Class Virtual
DESCRIPTION:Beginning Psychic Mediumship Class Virtual – Opening to Your Spiritual Gifts \nBeginning Mediumship Development Class\nThis class is a 15-week series for Beginning Psychic Mediumship which will meet virtually on Zoom\, Wednesdays through the end of April. It is taught by Spiritualist Medium\, Elivia Melodey. It will focus on meditation\, creating safe spaces\, meeting your Spirit Guides\, and giving messages. \nStudents may join at any time. Ongoing attendance is recommended for the greatest progress to take place. \nIn this beginning psychic mediumship development\, you will learn to focus and fine-tune your ability to work with and channel Light Beings\, Teachers\, and Guides. Safely learn to navigate through unseen energies and learn discernment in a safe\, supportive atmosphere. \nLearn the difference between psychic and mediumship readings by connecting with Spirit. After laying the foundation covering Cleansing & protection\, Unseen energies\, Universal Laws\, Working with Guides\, Chakras\, etc\, students will further develop their abilities of clairaudience\, clairvoyance\, and clairsentience and learn to work with the differing energy frequencies of their Guides. You will be getting to know and learning about your Spirit Guides and Angels who are with you to support you in all ways. \nThis Beginning Psychic Mediumship virtual class will include Guided Meditation\, Remote viewing\, Reading energies\, Working with the Chakras\, Message delivery\, and Evidential Mediumship and Medical Intuitive practices. \nPresently\, this is a Virtual\, Online Mediumship Development Class.  To prepare for class\, be sure to wear comfortable clothing and have a notebook handy if you enjoy taking notes. \n \nThe fee for each class is $20.00\, payable each week through Paypal\, Venmo\, Zelle or by check. \nYou can also pay in full the full class amount of $300. \nTo register call 760-471-7304 or email Elivia to RSVP. \nThe Zoom link and any payment details will be emailed to you upon registration. \n~~~~~~~~~~~~~~~~~~ \nRev. Elivia Melodey has been a practicing Spiritualist medium since 1985. She is the former Director of Education at Harmony Grove Spiritualist Association in San Diego and is highly respected for her accuracy and Mediumship Development skills. Many of her past students are now professional mediums. She has been a keynote speaker at numerous national conferences and has been featured in many media outlets.
URL:https://elivia.com/single-post-name/beginning-psychic-mediumship-class-virtual-41/
LOCATION:Virtual on Zoom\, 971 Borden Rd\, San Marcos\, CA\, 92069\, United States
CATEGORIES:Classes/Workshops,Mediumship Development
ATTACH;FMTTYPE=image/jpeg:https://elivia.com/wp-content/uploads/2022/03/Spirit-Comm-cropped.jpg
ORGANIZER;CN="Elivia Melodey":MAILTO:eliviamelodey@sbcglobalnet
END:VEVENT
BEGIN:VEVENT
DTSTART;TZID=UTC:20250125T100000
DTEND;TZID=UTC:20250125T170000
DTSTAMP:20260426T035500
CREATED:20241129T000137Z
LAST-MODIFIED:20241129T000432Z
UID:10000485-1737799200-1737824400@elivia.com
SUMMARY:Sound Healing with Singing Crystal Bowls Workshop
DESCRIPTION:Sound Healing with Singing Crystal Bowls Workshop \n\n\nSaturday\, Jan. 25\, 10 AM – 5 PM \nThis In-person singing crystal bowl workshop is open to all levels of vibrational healing practitioners as well as those who want to learn more about singing crystal bowls. You don’t need to know a thing about singing bowls\, or even own one to get a lot out of this class. If you do have a healing practice\, this class will show you how you can expand it in many ways. We’ll have lots of singing crystal bowls to work with and brand-new ones to play with too. – Just in case you’re looking for a new crystal sound healing friend and can’t decide which one to get! At the end of this workshop\, you’ll know for sure! \nLearn how vibrational healing works through the Singing Crystal Bowls and learn how it can assist in revitalizing you! Discover which tones uniquely affect your being\, along with the history & practice of the quartz crystal singing bowls.\nNaturally\, we’ll be going through a Singing Crystal Bowl Chakra Meditation to assist you in differentiating exactly how the bowls impact these vital energy centers. \nWe’ll be exploring ways you can work with singing crystal bowls for personal use\, for groups\, and for those with professional practices. We’ll be learning rituals and unique ways that you can share the bowls with others. We’ll also be learning the differences between kinds of singing crystal bowls out there so you can be informed!! \nAll participants will receive Elivia’s Singing Crystal Bowl Workbook. \nDress comfortably and bring bag lunch with a small blanket or mat for meditation and floor work for this Singing Crystal Bowl workshop. \nCost: $300 in advance\, $425 after Jan. 22. \nRSVP now to hold your place \n\n\n– Class size is limited so you’ll want to be sure to sign up early. \nLocation: Private home in San Marcos.\nDirections will be emailed to you when you register. \n  \n\n  \n\n 
URL:https://elivia.com/single-post-name/sound-healing-with-singing-crystal-bowls-workshop/
LOCATION:Private home in San Marcos\, San Marcos\, CA\, 92069\, United States
CATEGORIES:Classes/Workshops,Sound Healing Workshops
ATTACH;FMTTYPE=image/jpeg:https://elivia.com/wp-content/uploads/1970/01/Crystal_Bowl_Practice_-_4-scaled.jpg
ORGANIZER;CN="Elivia Melodey":MAILTO:eliviamelodey@sbcglobalnet
END:VEVENT
BEGIN:VEVENT
DTSTART;TZID=UTC:20250128T190000
DTEND;TZID=UTC:20250128T210000
DTSTAMP:20260426T035500
CREATED:20241128T213200Z
LAST-MODIFIED:20241128T213203Z
UID:10000472-1738090800-1738098000@elivia.com
SUMMARY:Intermediate Psychic Mediumship Development Class Series Virtual
DESCRIPTION:Intermediate Psychic Mediumship Development Class Series Virtual \nIntermediate Level Mediumship Development Classes with Elivia Melodey in San Marcos.\nIntermediate Psychic Mediumship Development Class Series with Elivia Melodey in San Marcos – Virtual on Zoom. \nThis 15-week series for Intermediate Psychic Mediumship Development class will meet virtually (on Zoom) on Tuesdays through the end of April. Taught by Spiritualist Medium\, Elivia Melodey. It will focus on fine-tuning your ability to work with  Light Beings\, Angels\, and Spirit Guides. It will also focus on discerning and understanding unseen energies. \nEach intermediate class series is uniquely tailored to the attending students\, so the focus can easily shift from what is listed. \nAfter laying the foundation (covering Cleansing & protection\, Unseen energies\, Universal Laws\, Working with Guides\, Chakras etc.) students will further develop their clairaudience\, clairvoyance\, and clairsentience abilities. Students will learn to work with the differing energy frequencies of their Guides – both Inner Band and Ascension Guides. Each intermediate class series is uniquely tailored to the attending students\, so the focus can easily shift from what is listed to jumping timelines. In this Intermediate Mediumship Development class\, we will continue to work with evidential mediumship;  fine-tuning each student’s abilities to connect with and discern loved ones who have crossed over. We’ll also review our medical intuition skills\, and play with frequency flying. \nThis class will include Meditation\, Message delivery\, and energy alchemy. \nPresently\, this is a Virtual\, Online Mediumship Development Class.  To prepare for class\, be sure to wear comfortable clothing and have a notebook handy if you enjoy taking notes. \nThis class is open to new students\, by permission. Please get in touch with Elivia if you feel called to join us. \nThe fee for each class is $20.00\, payable each week through Paypal\, Venmo\, Zelle or by check. \nYou can also pay in full the full class amount of $300. \nTo register call 760-471-7304 or email Elivia to RSVP. \nThe Zoom link and any payment details will be emailed to you upon registration. \n~~~~~~~~~~~~~~~~~~ \nRev. Elivia Melodey has been a practicing Spiritualist medium since 1985. She is the former Director of Education at Harmony Grove Spiritualist Association in San Diego and is highly respected for her accuracy and Mediumship Development skills. Many of her past students are now professional mediums. She has been a keynote speaker at numerous national conferences and has been featured in many media outlets.
URL:https://elivia.com/single-post-name/intermediate-psychic-mediumship-development-class-virtual-43-2/
LOCATION:Virtual on Zoom\, 971 Borden Rd\, San Marcos\, CA\, 92069\, United States
CATEGORIES:Classes/Workshops,Mediumship Development
ATTACH;FMTTYPE=image/jpeg:https://elivia.com/wp-content/uploads/2015/06/six-pointed-star-e1536277168122.jpg
ORGANIZER;CN="Elivia Melodey":MAILTO:eliviamelodey@sbcglobalnet
END:VEVENT
BEGIN:VEVENT
DTSTART;TZID=UTC:20250129T190000
DTEND;TZID=UTC:20250129T210000
DTSTAMP:20260426T035500
CREATED:20241128T021731Z
LAST-MODIFIED:20241128T021955Z
UID:10000455-1738177200-1738184400@elivia.com
SUMMARY:Beginning Psychic Mediumship Class Virtual
DESCRIPTION:Beginning Psychic Mediumship Class Virtual – Opening to Your Spiritual Gifts \nBeginning Mediumship Development Class\nThis class is a 15-week series for Beginning Psychic Mediumship which will meet virtually on Zoom\, Wednesdays through the end of April. It is taught by Spiritualist Medium\, Elivia Melodey. It will focus on meditation\, creating safe spaces\, meeting your Spirit Guides\, and giving messages. \nStudents may join at any time. Ongoing attendance is recommended for the greatest progress to take place. \nIn this beginning psychic mediumship development\, you will learn to focus and fine-tune your ability to work with and channel Light Beings\, Teachers\, and Guides. Safely learn to navigate through unseen energies and learn discernment in a safe\, supportive atmosphere. \nLearn the difference between psychic and mediumship readings by connecting with Spirit. After laying the foundation covering Cleansing & protection\, Unseen energies\, Universal Laws\, Working with Guides\, Chakras\, etc\, students will further develop their abilities of clairaudience\, clairvoyance\, and clairsentience and learn to work with the differing energy frequencies of their Guides. You will be getting to know and learning about your Spirit Guides and Angels who are with you to support you in all ways. \nThis Beginning Psychic Mediumship virtual class will include Guided Meditation\, Remote viewing\, Reading energies\, Working with the Chakras\, Message delivery\, and Evidential Mediumship and Medical Intuitive practices. \nPresently\, this is a Virtual\, Online Mediumship Development Class.  To prepare for class\, be sure to wear comfortable clothing and have a notebook handy if you enjoy taking notes. \n \nThe fee for each class is $20.00\, payable each week through Paypal\, Venmo\, Zelle or by check. \nYou can also pay in full the full class amount of $300. \nTo register call 760-471-7304 or email Elivia to RSVP. \nThe Zoom link and any payment details will be emailed to you upon registration. \n~~~~~~~~~~~~~~~~~~ \nRev. Elivia Melodey has been a practicing Spiritualist medium since 1985. She is the former Director of Education at Harmony Grove Spiritualist Association in San Diego and is highly respected for her accuracy and Mediumship Development skills. Many of her past students are now professional mediums. She has been a keynote speaker at numerous national conferences and has been featured in many media outlets.
URL:https://elivia.com/single-post-name/beginning-psychic-mediumship-class-virtual-42/
LOCATION:Virtual on Zoom\, 971 Borden Rd\, San Marcos\, CA\, 92069\, United States
CATEGORIES:Classes/Workshops,Mediumship Development
ATTACH;FMTTYPE=image/jpeg:https://elivia.com/wp-content/uploads/2020/01/Mediumship-Hands.jpg
ORGANIZER;CN="Elivia Melodey":MAILTO:eliviamelodey@sbcglobalnet
END:VEVENT
END:VCALENDAR