BEGIN:VCALENDAR
VERSION:2.0
PRODID:-//Elivia.com - ECPv6.15.20//NONSGML v1.0//EN
CALSCALE:GREGORIAN
METHOD:PUBLISH
X-ORIGINAL-URL:https://elivia.com
X-WR-CALDESC:Events for Elivia.com
REFRESH-INTERVAL;VALUE=DURATION:PT1H
X-Robots-Tag:noindex
X-PUBLISHED-TTL:PT1H
BEGIN:VTIMEZONE
TZID:UTC
BEGIN:STANDARD
TZOFFSETFROM:+0000
TZOFFSETTO:+0000
TZNAME:UTC
DTSTART:20240101T000000
END:STANDARD
END:VTIMEZONE
BEGIN:VEVENT
DTSTART;TZID=UTC:20250118T100000
DTEND;TZID=UTC:20250118T160000
DTSTAMP:20260425T162739
CREATED:20241128T034602Z
LAST-MODIFIED:20241128T034606Z
UID:10000469-1737194400-1737216000@elivia.com
SUMMARY:Spirit Fair in Hemet
DESCRIPTION:Spirit Fair in Hemet – Join us! Elivia will be bringing lots of magical crystals\, gemstones and jewelry to this fair.  \nNew Year – New Start – Spirit and Healing Fair\nREADERS – HEALERS – LECTURES – SHOPPING\, Food and Fun with like-minded people! \nSkilled and GIFTED Readers!\nPsychics\, Intuitives\, Mediums/Channels\, Crystal Readings\,Tarot and Card Readers\, Crystal Ball\, Palmistry\, Guides\, Angels\, Handwriting analysis\, Psychometry\, Channeling\, Energy Healers\, Pet Readings\, Workshops\, and So much MORE! \nAmazing VENDORS: – Essential Oil\, Divine Nature Products\, Jewelry\,Crystals\, Home made bread\, all natural pet treats\, Stroopwafels WAFFLES\, made FRESH and much more! \nLectures and Workshops from amazing folk. \nREADERS and HEALERS –\nONLY THE TRIED AND TRUE BEST OF THE BEST FOR YOU! \nSpirit Fair in Hemet \nSaturday\, January 18\, 2o25  10:00 AM – at 4:00 PM PST \n  \n\n\n\nHemet Center for Spiritual Living \n40450 Stetson Ave #111 · Hemet\, CA
URL:https://elivia.com/single-post-name/spirit-fair-in-hemet-2/
LOCATION:Hemet Center for Spiritual Living\, 40450 Stetson Ave\, Hemet\, CA\, 92544\, United States
CATEGORIES:Psychic Fair
ATTACH;FMTTYPE=image/jpeg:https://elivia.com/wp-content/uploads/2024/11/2025-1.jpg
END:VEVENT
END:VCALENDAR