BEGIN:VCALENDAR
VERSION:2.0
PRODID:-//Elivia.com - ECPv6.15.20//NONSGML v1.0//EN
CALSCALE:GREGORIAN
METHOD:PUBLISH
X-ORIGINAL-URL:https://elivia.com
X-WR-CALDESC:Events for Elivia.com
REFRESH-INTERVAL;VALUE=DURATION:PT1H
X-Robots-Tag:noindex
X-PUBLISHED-TTL:PT1H
BEGIN:VTIMEZONE
TZID:UTC
BEGIN:STANDARD
TZOFFSETFROM:+0000
TZOFFSETTO:+0000
TZNAME:UTC
DTSTART:20250101T000000
END:STANDARD
END:VTIMEZONE
BEGIN:VEVENT
DTSTART;TZID=UTC:20260303T190000
DTEND;TZID=UTC:20260303T210000
DTSTAMP:20260424T001006
CREATED:20251223T194610Z
LAST-MODIFIED:20251223T194610Z
UID:10000538-1772564400-1772571600@elivia.com
SUMMARY:Intermediate Psychic Mediumship Development Class Series Virtual
DESCRIPTION:Intermediate Psychic Mediumship Development Class Series Virtual \nIntermediate Level Mediumship Development Classes with Elivia Melodey in San Marcos.\nIntermediate Psychic Mediumship Development Class Series with Elivia Melodey in San Marcos – Virtual on Zoom. \nThis 15-week series for Intermediate Psychic Mediumship Development class will meet virtually (on Zoom) on Tuesdays through the end of April. Taught by Spiritualist Medium\, Elivia Melodey. It will focus on fine-tuning your ability to work with  Light Beings\, Angels\, and Spirit Guides. It will also focus on discerning and understanding unseen energies. \nEach intermediate class series is uniquely tailored to the attending students\, so the focus can easily shift from what is listed. \nAfter laying the foundation (covering cleansing & protection\, Unseen energies\, Universal Laws\, Working with Guides\, Chakras\, etc.)\, students will further develop their clairaudience\, clairvoyance\, and clairsentience abilities. Students will learn to work with the differing energy frequencies of their Guides – both Inner Band and Ascension Guides. Each intermediate class series is uniquely tailored to the attending students\, so the focus can easily shift from what is listed to jumping timelines. In this Intermediate Mediumship Development class\, we will continue to work with evidential mediumship\, fine-tuning each student’s abilities to connect with and discern loved ones who have crossed over. We’ll also review our medical intuition skills\, and play with frequency flying. \nThis class will include Meditation\, Message delivery\, and energy alchemy. \nPresently\, this is a Virtual\, Online Mediumship Development Class.  To prepare for class\, be sure to wear comfortable clothing and have a notebook handy if you enjoy taking notes. \nThis class is open to new students by permission. Please contact Elivia if you feel called to join us. \nThe fee for each class is $20.00\, payable each week through Paypal\, Venmo\, Zelle or by check. \nYou can also pay in full the full class amount of $300. \nTo register\, call 760-471-7304 or email Elivia to RSVP. \nThe Zoom link and any payment details will be emailed to you upon registration. \n~~~~~~~~~~~~~~~~~~ \nRev. Elivia Melodey has been a practicing Spiritualist medium since 1985. She is the former Director of Education at Harmony Grove Spiritualist Association in San Diego and is highly respected for her accuracy and Mediumship Development skills. Many of her past students are now professional mediums. She has been a keynote speaker at numerous national conferences and has been featured in many media outlets.
URL:https://elivia.com/single-post-name/intermediate-psychic-mediumship-development-class-series-virtual-19/
LOCATION:Virtual on Zoom\, 971 Borden Rd\, San Marcos\, CA\, 92069\, United States
CATEGORIES:Classes/Workshops,Mediumship Development
ATTACH;FMTTYPE=image/jpeg:https://elivia.com/wp-content/uploads/2015/06/six-pointed-star-e1536277168122.jpg
ORGANIZER;CN="Elivia Melodey":MAILTO:eliviamelodey@sbcglobalnet
END:VEVENT
BEGIN:VEVENT
DTSTART;TZID=UTC:20260304T190000
DTEND;TZID=UTC:20260304T210000
DTSTAMP:20260424T001006
CREATED:20251223T173417Z
LAST-MODIFIED:20251223T173417Z
UID:10000523-1772650800-1772658000@elivia.com
SUMMARY:Beginning Psychic Mediumship Class Virtual
DESCRIPTION:Beginning Psychic Mediumship Class Virtual – Opening to Your Spiritual Gifts \nThis class is an 15-week series for Beginning Psychic Mediumship which will meet virtually on Zoom\, Wednesdays through the end of April. It is taught by Spiritualist Medium\, Elivia Melodey. It will focus on meditation\, creating safe spaces\, meeting your Spirit Guides\, and giving messages. \nStudents may join at any time. Ongoing attendance is recommended for the greatest progress to take place. \nIn this beginning psychic mediumship development\, you will learn to focus and fine-tune your ability to work with and channel Light Beings\, Teachers\, and Guides. Safely learn to navigate through unseen energies and learn discernment in a safe\, supportive atmosphere. \nLearn the difference between psychic and mediumship readings by connecting with Spirit. After laying the foundation covering Cleansing & protection\, Unseen energies\, Universal Laws\, Working with Guides\, Chakras\, etc\, students will further develop their abilities of clairaudience\, clairvoyance\, and clairsentience and learn to work with the differing energy frequencies of their Guides. You will be getting to know and learning about your Spirit Guides and Angels who are with you to support you in all ways. \nThis Beginning Psychic Mediumship virtual class will include Guided Meditation\, Remote viewing\, Reading energies\, Working with the Chakras\, Message delivery\, Evidential Mediumship\, and Medical Intuitive practices. \nPresently\, this is a Virtual\, Online Mediumship Development Class.  To prepare for class\, be sure to wear comfortable clothing and have a notebook handy if you enjoy taking notes. \n \nThe fee for each class is $20.00\, payable each week through Paypal\, Venmo\, or by check. \nYou can also pay in full the full class amount of $300. \nTo register\, call 760-471-7304 or email Elivia to RSVP. \nThe Zoom link and any payment details will be emailed to you upon registration. \n~~~~~~~~~~~~~~~~~~ \nRev. Elivia Melodey has been a practicing Spiritualist medium since 1985. She is the former Director of Education at Harmony Grove Spiritualist Association in San Diego and is highly respected for her accuracy and Mediumship Development skills. Many of her past students are now professional mediums. She has been a keynote speaker at numerous national conferences and has been featured in many media outlets.
URL:https://elivia.com/single-post-name/beginning-psychic-mediumship-class-virtual-71/
LOCATION:Virtual on Zoom\, 971 Borden Rd\, San Marcos\, CA\, 92069\, United States
CATEGORIES:Classes/Workshops,Mediumship Development
ATTACH;FMTTYPE=image/jpeg:https://elivia.com/wp-content/uploads/2020/01/Mediumship-Hands.jpg
ORGANIZER;CN="Elivia Melodey":MAILTO:eliviamelodey@sbcglobalnet
END:VEVENT
BEGIN:VEVENT
DTSTART;TZID=UTC:20260310T190000
DTEND;TZID=UTC:20260310T210000
DTSTAMP:20260424T001006
CREATED:20251223T194843Z
LAST-MODIFIED:20251223T194843Z
UID:10000539-1773169200-1773176400@elivia.com
SUMMARY:Intermediate Psychic Mediumship Development Class Series Virtual
DESCRIPTION:Intermediate Psychic Mediumship Development Class Series Virtual \nIntermediate Level Mediumship Development Classes with Elivia Melodey in San Marcos.\nIntermediate Psychic Mediumship Development Class Series with Elivia Melodey in San Marcos – Virtual on Zoom. \nThis 15-week series for Intermediate Psychic Mediumship Development class will meet virtually (on Zoom) on Tuesdays through the end of April. Taught by Spiritualist Medium\, Elivia Melodey. It will focus on fine-tuning your ability to work with  Light Beings\, Angels\, and Spirit Guides. It will also focus on discerning and understanding unseen energies. \nEach intermediate class series is uniquely tailored to the attending students\, so the focus can easily shift from what is listed. \nAfter laying the foundation (covering cleansing & protection\, Unseen energies\, Universal Laws\, Working with Guides\, Chakras\, etc.)\, students will further develop their clairaudience\, clairvoyance\, and clairsentience abilities. Students will learn to work with the differing energy frequencies of their Guides – both Inner Band and Ascension Guides. Each intermediate class series is uniquely tailored to the attending students\, so the focus can easily shift from what is listed to jumping timelines. In this Intermediate Mediumship Development class\, we will continue to work with evidential mediumship\, fine-tuning each student’s abilities to connect with and discern loved ones who have crossed over. We’ll also review our medical intuition skills\, and play with frequency flying. \nThis class will include Meditation\, Message delivery\, and energy alchemy. \nPresently\, this is a Virtual\, Online Mediumship Development Class.  To prepare for class\, be sure to wear comfortable clothing and have a notebook handy if you enjoy taking notes. \nThis class is open to new students by permission. Please contact Elivia if you feel called to join us. \nThe fee for each class is $20.00\, payable each week through Paypal\, Venmo\, Zelle or by check. \nYou can also pay in full the full class amount of $300. \nTo register\, call 760-471-7304 or email Elivia to RSVP. \nThe Zoom link and any payment details will be emailed to you upon registration. \n~~~~~~~~~~~~~~~~~~ \nRev. Elivia Melodey has been a practicing Spiritualist medium since 1985. She is the former Director of Education at Harmony Grove Spiritualist Association in San Diego and is highly respected for her accuracy and Mediumship Development skills. Many of her past students are now professional mediums. She has been a keynote speaker at numerous national conferences and has been featured in many media outlets.
URL:https://elivia.com/single-post-name/intermediate-psychic-mediumship-development-class-series-virtual-20/
LOCATION:Virtual on Zoom\, 971 Borden Rd\, San Marcos\, CA\, 92069\, United States
CATEGORIES:Classes/Workshops,Mediumship Development
ATTACH;FMTTYPE=image/jpeg:https://elivia.com/wp-content/uploads/2015/06/six-pointed-star-e1536277168122.jpg
ORGANIZER;CN="Elivia Melodey":MAILTO:eliviamelodey@sbcglobalnet
END:VEVENT
BEGIN:VEVENT
DTSTART;TZID=UTC:20260311T190000
DTEND;TZID=UTC:20260311T210000
DTSTAMP:20260424T001006
CREATED:20251223T173703Z
LAST-MODIFIED:20251223T173703Z
UID:10000524-1773255600-1773262800@elivia.com
SUMMARY:Beginning Psychic Mediumship Class Virtual
DESCRIPTION:Beginning Psychic Mediumship Class Virtual – Opening to Your Spiritual Gifts \nThis class is an 15-week series for Beginning Psychic Mediumship which will meet virtually on Zoom\, Wednesdays through the end of April. It is taught by Spiritualist Medium\, Elivia Melodey. It will focus on meditation\, creating safe spaces\, meeting your Spirit Guides\, and giving messages. \nStudents may join at any time. Ongoing attendance is recommended for the greatest progress to take place. \nIn this beginning psychic mediumship development\, you will learn to focus and fine-tune your ability to work with and channel Light Beings\, Teachers\, and Guides. Safely learn to navigate through unseen energies and learn discernment in a safe\, supportive atmosphere. \nLearn the difference between psychic and mediumship readings by connecting with Spirit. After laying the foundation covering Cleansing & protection\, Unseen energies\, Universal Laws\, Working with Guides\, Chakras\, etc\, students will further develop their abilities of clairaudience\, clairvoyance\, and clairsentience and learn to work with the differing energy frequencies of their Guides. You will be getting to know and learning about your Spirit Guides and Angels who are with you to support you in all ways. \nThis Beginning Psychic Mediumship virtual class will include Guided Meditation\, Remote viewing\, Reading energies\, Working with the Chakras\, Message delivery\, Evidential Mediumship\, and Medical Intuitive practices. \nPresently\, this is a Virtual\, Online Mediumship Development Class.  To prepare for class\, be sure to wear comfortable clothing and have a notebook handy if you enjoy taking notes. \n \nThe fee for each class is $20.00\, payable each week through Paypal\, Venmo\, or by check. \nYou can also pay in full the full class amount of $300. \nTo register\, call 760-471-7304 or email Elivia to RSVP. \nThe Zoom link and any payment details will be emailed to you upon registration. \n~~~~~~~~~~~~~~~~~~ \nRev. Elivia Melodey has been a practicing Spiritualist medium since 1985. She is the former Director of Education at Harmony Grove Spiritualist Association in San Diego and is highly respected for her accuracy and Mediumship Development skills. Many of her past students are now professional mediums. She has been a keynote speaker at numerous national conferences and has been featured in many media outlets.
URL:https://elivia.com/single-post-name/beginning-psychic-mediumship-class-virtual-72/
LOCATION:Virtual on Zoom\, 971 Borden Rd\, San Marcos\, CA\, 92069\, United States
CATEGORIES:Classes/Workshops,Mediumship Development
ATTACH;FMTTYPE=image/jpeg:https://elivia.com/wp-content/uploads/2020/01/Mediumship-Hands.jpg
ORGANIZER;CN="Elivia Melodey":MAILTO:eliviamelodey@sbcglobalnet
END:VEVENT
BEGIN:VEVENT
DTSTART;TZID=UTC:20260317T190000
DTEND;TZID=UTC:20260317T210000
DTSTAMP:20260424T001006
CREATED:20251223T203927Z
LAST-MODIFIED:20251223T203927Z
UID:10000541-1773774000-1773781200@elivia.com
SUMMARY:Intermediate Psychic Mediumship Development Class Series Virtual
DESCRIPTION:Intermediate Psychic Mediumship Development Class Series Virtual \nIntermediate Level Mediumship Development Classes with Elivia Melodey in San Marcos.\nIntermediate Psychic Mediumship Development Class Series with Elivia Melodey in San Marcos – Virtual on Zoom. \nThis 15-week series for Intermediate Psychic Mediumship Development class will meet virtually (on Zoom) on Tuesdays through the end of April. Taught by Spiritualist Medium\, Elivia Melodey. It will focus on fine-tuning your ability to work with  Light Beings\, Angels\, and Spirit Guides. It will also focus on discerning and understanding unseen energies. \nEach intermediate class series is uniquely tailored to the attending students\, so the focus can easily shift from what is listed. \nAfter laying the foundation (covering cleansing & protection\, Unseen energies\, Universal Laws\, Working with Guides\, Chakras\, etc.)\, students will further develop their clairaudience\, clairvoyance\, and clairsentience abilities. Students will learn to work with the differing energy frequencies of their Guides – both Inner Band and Ascension Guides. Each intermediate class series is uniquely tailored to the attending students\, so the focus can easily shift from what is listed to jumping timelines. In this Intermediate Mediumship Development class\, we will continue to work with evidential mediumship\, fine-tuning each student’s abilities to connect with and discern loved ones who have crossed over. We’ll also review our medical intuition skills\, and play with frequency flying. \nThis class will include Meditation\, Message delivery\, and energy alchemy. \nPresently\, this is a Virtual\, Online Mediumship Development Class.  To prepare for class\, be sure to wear comfortable clothing and have a notebook handy if you enjoy taking notes. \nThis class is open to new students by permission. Please contact Elivia if you feel called to join us. \nThe fee for each class is $20.00\, payable each week through Paypal\, Venmo\, Zelle or by check. \nYou can also pay in full the full class amount of $300. \nTo register\, call 760-471-7304 or email Elivia to RSVP. \nThe Zoom link and any payment details will be emailed to you upon registration. \n~~~~~~~~~~~~~~~~~~ \nRev. Elivia Melodey has been a practicing Spiritualist medium since 1985. She is the former Director of Education at Harmony Grove Spiritualist Association in San Diego and is highly respected for her accuracy and Mediumship Development skills. Many of her past students are now professional mediums. She has been a keynote speaker at numerous national conferences and has been featured in many media outlets.
URL:https://elivia.com/single-post-name/intermediate-psychic-mediumship-development-class-series-virtual-22/
LOCATION:Virtual on Zoom\, 971 Borden Rd\, San Marcos\, CA\, 92069\, United States
CATEGORIES:Classes/Workshops,Mediumship Development
ATTACH;FMTTYPE=image/jpeg:https://elivia.com/wp-content/uploads/2015/06/six-pointed-star-e1536277168122.jpg
ORGANIZER;CN="Elivia Melodey":MAILTO:eliviamelodey@sbcglobalnet
END:VEVENT
BEGIN:VEVENT
DTSTART;TZID=UTC:20260318T190000
DTEND;TZID=UTC:20260318T210000
DTSTAMP:20260424T001006
CREATED:20251223T174008Z
LAST-MODIFIED:20251223T174008Z
UID:10000525-1773860400-1773867600@elivia.com
SUMMARY:Beginning Psychic Mediumship Class Virtual
DESCRIPTION:Beginning Psychic Mediumship Class Virtual – Opening to Your Spiritual Gifts \nThis class is an 15-week series for Beginning Psychic Mediumship which will meet virtually on Zoom\, Wednesdays through the end of April. It is taught by Spiritualist Medium\, Elivia Melodey. It will focus on meditation\, creating safe spaces\, meeting your Spirit Guides\, and giving messages. \nStudents may join at any time. Ongoing attendance is recommended for the greatest progress to take place. \nIn this beginning psychic mediumship development\, you will learn to focus and fine-tune your ability to work with and channel Light Beings\, Teachers\, and Guides. Safely learn to navigate through unseen energies and learn discernment in a safe\, supportive atmosphere. \nLearn the difference between psychic and mediumship readings by connecting with Spirit. After laying the foundation covering Cleansing & protection\, Unseen energies\, Universal Laws\, Working with Guides\, Chakras\, etc\, students will further develop their abilities of clairaudience\, clairvoyance\, and clairsentience and learn to work with the differing energy frequencies of their Guides. You will be getting to know and learning about your Spirit Guides and Angels who are with you to support you in all ways. \nThis Beginning Psychic Mediumship virtual class will include Guided Meditation\, Remote viewing\, Reading energies\, Working with the Chakras\, Message delivery\, Evidential Mediumship\, and Medical Intuitive practices. \nPresently\, this is a Virtual\, Online Mediumship Development Class.  To prepare for class\, be sure to wear comfortable clothing and have a notebook handy if you enjoy taking notes. \n \nThe fee for each class is $20.00\, payable each week through Paypal\, Venmo\, or by check. \nYou can also pay in full the full class amount of $300. \nTo register\, call 760-471-7304 or email Elivia to RSVP. \nThe Zoom link and any payment details will be emailed to you upon registration. \n~~~~~~~~~~~~~~~~~~ \nRev. Elivia Melodey has been a practicing Spiritualist medium since 1985. She is the former Director of Education at Harmony Grove Spiritualist Association in San Diego and is highly respected for her accuracy and Mediumship Development skills. Many of her past students are now professional mediums. She has been a keynote speaker at numerous national conferences and has been featured in many media outlets.
URL:https://elivia.com/single-post-name/beginning-psychic-mediumship-class-virtual-73/
LOCATION:Virtual on Zoom\, 971 Borden Rd\, San Marcos\, CA\, 92069\, United States
CATEGORIES:Classes/Workshops,Mediumship Development
ATTACH;FMTTYPE=image/jpeg:https://elivia.com/wp-content/uploads/2020/01/Mediumship-Hands.jpg
ORGANIZER;CN="Elivia Melodey":MAILTO:eliviamelodey@sbcglobalnet
END:VEVENT
BEGIN:VEVENT
DTSTART;TZID=UTC:20260324T190000
DTEND;TZID=UTC:20260324T210000
DTSTAMP:20260424T001006
CREATED:20251223T204158Z
LAST-MODIFIED:20251223T204158Z
UID:10000542-1774378800-1774386000@elivia.com
SUMMARY:Intermediate Psychic Mediumship Development Class Series Virtual
DESCRIPTION:Intermediate Psychic Mediumship Development Class Series Virtual \nIntermediate Level Mediumship Development Classes with Elivia Melodey in San Marcos.\nIntermediate Psychic Mediumship Development Class Series with Elivia Melodey in San Marcos – Virtual on Zoom. \nThis 15-week series for Intermediate Psychic Mediumship Development class will meet virtually (on Zoom) on Tuesdays through the end of April. Taught by Spiritualist Medium\, Elivia Melodey. It will focus on fine-tuning your ability to work with  Light Beings\, Angels\, and Spirit Guides. It will also focus on discerning and understanding unseen energies. \nEach intermediate class series is uniquely tailored to the attending students\, so the focus can easily shift from what is listed. \nAfter laying the foundation (covering cleansing & protection\, Unseen energies\, Universal Laws\, Working with Guides\, Chakras\, etc.)\, students will further develop their clairaudience\, clairvoyance\, and clairsentience abilities. Students will learn to work with the differing energy frequencies of their Guides – both Inner Band and Ascension Guides. Each intermediate class series is uniquely tailored to the attending students\, so the focus can easily shift from what is listed to jumping timelines. In this Intermediate Mediumship Development class\, we will continue to work with evidential mediumship\, fine-tuning each student’s abilities to connect with and discern loved ones who have crossed over. We’ll also review our medical intuition skills\, and play with frequency flying. \nThis class will include Meditation\, Message delivery\, and energy alchemy. \nPresently\, this is a Virtual\, Online Mediumship Development Class.  To prepare for class\, be sure to wear comfortable clothing and have a notebook handy if you enjoy taking notes. \nThis class is open to new students by permission. Please contact Elivia if you feel called to join us. \nThe fee for each class is $20.00\, payable each week through Paypal\, Venmo\, Zelle or by check. \nYou can also pay in full the full class amount of $300. \nTo register\, call 760-471-7304 or email Elivia to RSVP. \nThe Zoom link and any payment details will be emailed to you upon registration. \n~~~~~~~~~~~~~~~~~~ \nRev. Elivia Melodey has been a practicing Spiritualist medium since 1985. She is the former Director of Education at Harmony Grove Spiritualist Association in San Diego and is highly respected for her accuracy and Mediumship Development skills. Many of her past students are now professional mediums. She has been a keynote speaker at numerous national conferences and has been featured in many media outlets.
URL:https://elivia.com/single-post-name/intermediate-psychic-mediumship-development-class-series-virtual-23/
LOCATION:Virtual on Zoom\, 971 Borden Rd\, San Marcos\, CA\, 92069\, United States
CATEGORIES:Classes/Workshops,Mediumship Development
ATTACH;FMTTYPE=image/jpeg:https://elivia.com/wp-content/uploads/2015/06/six-pointed-star-e1536277168122.jpg
END:VEVENT
BEGIN:VEVENT
DTSTART;TZID=UTC:20260325T190000
DTEND;TZID=UTC:20260325T210000
DTSTAMP:20260424T001006
CREATED:20251223T174341Z
LAST-MODIFIED:20251223T174720Z
UID:10000526-1774465200-1774472400@elivia.com
SUMMARY:Beginning Psychic Mediumship Class Virtual
DESCRIPTION:Beginning Psychic Mediumship Class Virtual – Opening to Your Spiritual Gifts \nThis class is an 15-week series for Beginning Psychic Mediumship which will meet virtually on Zoom\, Wednesdays through the end of April. It is taught by Spiritualist Medium\, Elivia Melodey. It will focus on meditation\, creating safe spaces\, meeting your Spirit Guides\, and giving messages. \nStudents may join at any time. Ongoing attendance is recommended for the greatest progress to take place. \nIn this beginning psychic mediumship development\, you will learn to focus and fine-tune your ability to work with and channel Light Beings\, Teachers\, and Guides. Safely learn to navigate through unseen energies and learn discernment in a safe\, supportive atmosphere. \nLearn the difference between psychic and mediumship readings by connecting with Spirit. After laying the foundation covering Cleansing & protection\, Unseen energies\, Universal Laws\, Working with Guides\, Chakras\, etc\, students will further develop their abilities of clairaudience\, clairvoyance\, and clairsentience and learn to work with the differing energy frequencies of their Guides. You will be getting to know and learning about your Spirit Guides and Angels who are with you to support you in all ways. \nThis Beginning Psychic Mediumship virtual class will include Guided Meditation\, Remote viewing\, Reading energies\, Working with the Chakras\, Message delivery\, Evidential Mediumship\, and Medical Intuitive practices. \nPresently\, this is a Virtual\, Online Mediumship Development Class.  To prepare for class\, be sure to wear comfortable clothing and have a notebook handy if you enjoy taking notes. \n \nThe fee for each class is $20.00\, payable each week through Paypal\, Venmo\, or by check. \nYou can also pay in full the full class amount of $300. \nTo register\, call 760-471-7304 or email Elivia to RSVP. \nThe Zoom link and any payment details will be emailed to you upon registration. \n~~~~~~~~~~~~~~~~~~ \nRev. Elivia Melodey has been a practicing Spiritualist medium since 1985. She is the former Director of Education at Harmony Grove Spiritualist Association in San Diego and is highly respected for her accuracy and Mediumship Development skills. Many of her past students are now professional mediums. She has been a keynote speaker at numerous national conferences and has been featured in many media outlets.
URL:https://elivia.com/single-post-name/beginning-psychic-mediumship-class-virtual-74/
LOCATION:Virtual on Zoom\, 971 Borden Rd\, San Marcos\, CA\, 92069\, United States
CATEGORIES:Classes/Workshops,Mediumship Development
ATTACH;FMTTYPE=image/jpeg:https://elivia.com/wp-content/uploads/2020/01/Mediumship-Hands.jpg
ORGANIZER;CN="Elivia Melodey":MAILTO:eliviamelodey@sbcglobalnet
END:VEVENT
BEGIN:VEVENT
DTSTART;TZID=UTC:20260331T190000
DTEND;TZID=UTC:20260331T210000
DTSTAMP:20260424T001006
CREATED:20251223T204444Z
LAST-MODIFIED:20251223T204444Z
UID:10000543-1774983600-1774990800@elivia.com
SUMMARY:Intermediate Psychic Mediumship Development Class Series Virtual
DESCRIPTION:Intermediate Psychic Mediumship Development Class Series Virtual \nIntermediate Level Mediumship Development Classes with Elivia Melodey in San Marcos.\nIntermediate Psychic Mediumship Development Class Series with Elivia Melodey in San Marcos – Virtual on Zoom. \nThis 15-week series for Intermediate Psychic Mediumship Development class will meet virtually (on Zoom) on Tuesdays through the end of April. Taught by Spiritualist Medium\, Elivia Melodey. It will focus on fine-tuning your ability to work with  Light Beings\, Angels\, and Spirit Guides. It will also focus on discerning and understanding unseen energies. \nEach intermediate class series is uniquely tailored to the attending students\, so the focus can easily shift from what is listed. \nAfter laying the foundation (covering cleansing & protection\, Unseen energies\, Universal Laws\, Working with Guides\, Chakras\, etc.)\, students will further develop their clairaudience\, clairvoyance\, and clairsentience abilities. Students will learn to work with the differing energy frequencies of their Guides – both Inner Band and Ascension Guides. Each intermediate class series is uniquely tailored to the attending students\, so the focus can easily shift from what is listed to jumping timelines. In this Intermediate Mediumship Development class\, we will continue to work with evidential mediumship\, fine-tuning each student’s abilities to connect with and discern loved ones who have crossed over. We’ll also review our medical intuition skills\, and play with frequency flying. \nThis class will include Meditation\, Message delivery\, and energy alchemy. \nPresently\, this is a Virtual\, Online Mediumship Development Class.  To prepare for class\, be sure to wear comfortable clothing and have a notebook handy if you enjoy taking notes. \nThis class is open to new students by permission. Please contact Elivia if you feel called to join us. \nThe fee for each class is $20.00\, payable each week through Paypal\, Venmo\, Zelle or by check. \nYou can also pay in full the full class amount of $300. \nTo register\, call 760-471-7304 or email Elivia to RSVP. \nThe Zoom link and any payment details will be emailed to you upon registration. \n~~~~~~~~~~~~~~~~~~ \nRev. Elivia Melodey has been a practicing Spiritualist medium since 1985. She is the former Director of Education at Harmony Grove Spiritualist Association in San Diego and is highly respected for her accuracy and Mediumship Development skills. Many of her past students are now professional mediums. She has been a keynote speaker at numerous national conferences and has been featured in many media outlets.
URL:https://elivia.com/single-post-name/intermediate-psychic-mediumship-development-class-series-virtual-24/
LOCATION:Virtual on Zoom\, 971 Borden Rd\, San Marcos\, CA\, 92069\, United States
CATEGORIES:Classes/Workshops,Mediumship Development
ATTACH;FMTTYPE=image/jpeg:https://elivia.com/wp-content/uploads/2015/06/six-pointed-star-e1536277168122.jpg
END:VEVENT
END:VCALENDAR