BEGIN:VCALENDAR
VERSION:2.0
PRODID:-//Elivia.com - ECPv6.15.20//NONSGML v1.0//EN
CALSCALE:GREGORIAN
METHOD:PUBLISH
X-ORIGINAL-URL:https://elivia.com
X-WR-CALDESC:Events for Elivia.com
REFRESH-INTERVAL;VALUE=DURATION:PT1H
X-Robots-Tag:noindex
X-PUBLISHED-TTL:PT1H
BEGIN:VTIMEZONE
TZID:UTC
BEGIN:STANDARD
TZOFFSETFROM:+0000
TZOFFSETTO:+0000
TZNAME:UTC
DTSTART:20240101T000000
END:STANDARD
END:VTIMEZONE
BEGIN:VEVENT
DTSTART;TZID=UTC:20251127T080000
DTEND;TZID=UTC:20251127T170000
DTSTAMP:20260424T053248
CREATED:20251125T200441Z
LAST-MODIFIED:20251125T221037Z
UID:10000509-1764230400-1764262800@elivia.com
SUMMARY:Happy Thanksgiving
DESCRIPTION:
URL:https://elivia.com/single-post-name/happy-thanksgiving-2/
LOCATION:CA
ATTACH;FMTTYPE=image/jpeg:https://elivia.com/wp-content/uploads/2024/11/Large-banner-images-for-Thanksgiving-768x254-1.jpg
END:VEVENT
END:VCALENDAR