BEGIN:VCALENDAR
VERSION:2.0
PRODID:-//Elivia.com - ECPv6.15.20//NONSGML v1.0//EN
CALSCALE:GREGORIAN
METHOD:PUBLISH
X-ORIGINAL-URL:https://elivia.com
X-WR-CALDESC:Events for Elivia.com
REFRESH-INTERVAL;VALUE=DURATION:PT1H
X-Robots-Tag:noindex
X-PUBLISHED-TTL:PT1H
BEGIN:VTIMEZONE
TZID:America/Los_Angeles
BEGIN:DAYLIGHT
TZOFFSETFROM:-0800
TZOFFSETTO:-0700
TZNAME:PDT
DTSTART:20180311T100000
END:DAYLIGHT
BEGIN:STANDARD
TZOFFSETFROM:-0700
TZOFFSETTO:-0800
TZNAME:PST
DTSTART:20181104T090000
END:STANDARD
BEGIN:DAYLIGHT
TZOFFSETFROM:-0800
TZOFFSETTO:-0700
TZNAME:PDT
DTSTART:20190310T100000
END:DAYLIGHT
BEGIN:STANDARD
TZOFFSETFROM:-0700
TZOFFSETTO:-0800
TZNAME:PST
DTSTART:20191103T090000
END:STANDARD
BEGIN:DAYLIGHT
TZOFFSETFROM:-0800
TZOFFSETTO:-0700
TZNAME:PDT
DTSTART:20200308T100000
END:DAYLIGHT
BEGIN:STANDARD
TZOFFSETFROM:-0700
TZOFFSETTO:-0800
TZNAME:PST
DTSTART:20201101T090000
END:STANDARD
END:VTIMEZONE
BEGIN:VEVENT
DTSTART;TZID=America/Los_Angeles:20190601T100000
DTEND;TZID=America/Los_Angeles:20190601T160000
DTSTAMP:20260425T234252
CREATED:20190501T160516Z
LAST-MODIFIED:20190501T160516Z
UID:10000066-1559383200-1559404800@elivia.com
SUMMARY:Harmony Grove Spiritualist Association Psychic Fair & 123 yr. Camp Opening Celebration
DESCRIPTION:Raising the flag for the official start of the 123rd year of the Camp Opening and Psychic Fair\nPlease join us for our 123rd Camp Season Opening: June 1\, 2019 \nOpening Ceremony Saturday 9:00 AM \nPsychic Fair readers and Vendors on the Green from 10:00 AM – 4:00 PM. \n \nReadings are $25 for 15 min. \n• Guest Speakers\n• Vendors with crafts & special gifts\n• Raffle of crafts\, gifts\, & services (e.g readings)\n• Food\, music\, crystal bowls\, & sharing \n9:15 am: Flag Raising with Rancho Santa Fe Fire Department \n10:00 am – 4:00 PM: Psychic Fair \nAll Day Activities: Raffles of Crafts\, Gifts and Services \nBe sure to stop by my booth to take in the energy of all my New Crystals and Singing Crystal Bowls along with wonderful Gemstone Jewelry! \n~~~~~~~~~~~~~~~~~~~~~~~~~~~~~~~~~~ \nUp until the 1960’s the Camp Openings included the local Native Americans who joined in Pow-Wow. Honoring this tradition\, the Camp Opening at Harmony Grove often includes Native American Dancing and Drum Circles. Camp Opening ceremonies\, begin with a prayer\, which includes a tribute to all the Harmony Grove Pioneers who have passed and to the troops in combat. Raising of the flag signals the official “Opening of the Camp” to visitors! \nThe various volunteer Harmony Grove committees set up tables on Membership\, Harmony Grove Institutes\,History\, as well as Fundraising. Silent auctions and prizes are spearheaded by the Ways and Means Committee. So it’s a great opportunity to learn all about Harmony Grove Spiritualist Association. \nIt is a festive weekend with hometown flair with discovery and delight for the whole family. Meals\, snacks\, and refreshments are served in Fellowship Hall throughout the day. The Chili- Cook-off and Bake-offs draw many creative culinary entrants!  Free presentations\, talks and lectures on Spiritualist Topics are offered throughout the day as well as events centered around the Medicine Wheel and Labyrinth. The Psychic Playground area draws children and adults! The Green takes on a festival atmosphere with cotton candy and popcorn filling the air. The root beer floats are always popular! \n Vendor booths\, healers\, and mediums set up their booths to present a delightful and enriching selection of offerings. These may include aura photography\, psychic artists\, and spirit-inspired art. Mediums offer their gifts\, as medical intuitives\, animal communicators and evidential contact with loved ones who have passed over. A variety of mediums and psychic readers include: smoke readings\, tarot readings\, palm readings\, angel\, teachers and guides readings\, or flower readings. Healers include: animal healers\, laying on of hands\, energy healing\, Reiki\, and massage. The merchandise booths include Crystals\, handcrafted Jewelry\, Scarves\, Ceramics\, Objects of Delight\, Baked goodies\, Books\, and Healing tools such as Orgone pyramids\, wands\, and sacred geometry. \n~~~~~~~~~~ \nWe hope you will also join us on Sunday\, June 2  \nSpecial All – Healing Service  \n held in the Meditation Garden. \n10:30 AM – Healing Service  Drumming & Crystals Bowls \n\n\nPlease join Reverends and AMCs for refreshments\, music and fellowship in Fellowship Hall\nfollowing services. \n 
URL:https://elivia.com/single-post-name/harmony-grove-spiritualist-association-psychic-fair-123-yr-camp-opening-celebration/
CATEGORIES:Psychic Fair,Special Event
END:VEVENT
BEGIN:VEVENT
DTSTART;VALUE=DATE:20190518
DTEND;VALUE=DATE:20190519
DTSTAMP:20260425T234252
CREATED:20190326T232822Z
LAST-MODIFIED:20190326T232822Z
UID:10000060-1558137600-1558223999@elivia.com
SUMMARY:San Diego Reiki Corps Annual Conference 2019
DESCRIPTION:Sign up now at the San Diego Reiki Corps Website Click Here. Printable Conference Presenters and Descriptions of Afternoon Breakout Sessions
URL:https://elivia.com/single-post-name/san-diego-reiki-corps-annual-conference-2019/
CATEGORIES:Crystal Workshops,Special Event
ATTACH;FMTTYPE=:
END:VEVENT
BEGIN:VEVENT
DTSTART;TZID=America/Los_Angeles:20190214T170000
DTEND;TZID=America/Los_Angeles:20190214T190000
DTSTAMP:20260425T234252
CREATED:20181229T225255Z
LAST-MODIFIED:20181229T225255Z
UID:10000024-1550163600-1550170800@elivia.com
SUMMARY:Valentines Day Soundbath Concert & Yoga
DESCRIPTION:A special offering for Valentines Day  \n \nJoin Joy Bennett\, Andrea Rumery\, Guenther Krammer & Elivia Melodey for a very special Valentines Day Event. \nWe’ll open the event with a spiritual message from Guenther followed by a Healing Soundbath Concert with Elivia allowing us to open and heal from a cellular level. After a brief intermission you’ll be guided through a gentle\, all levels appropriate\, Yoga class designed to build upon our Soundbath Concert energies. \nThis event will sell out\, so be sure to get your tickets early. \nClick here to register.  \nAbout our quests ~ \nGuenther Krammer is an active Practioner in the Arts of Holistic Healthcare\, working within the Healing elements of Shamanism\, Bodywork\, and Sound. \nElivia Melodey is a renowned Crystal Sound Master\, a trance medium\, and recording artist. With the release of four critically acclaimed CDs\, she established herself as a recording artist whose music is used in healing and spiritual centers around the world. Channeling the music of the Angels\, her music is transformational\, balancing the body’s energy centers and opening new doorways of awareness.
URL:https://elivia.com/single-post-name/valentines-day-concert-yoga/
LOCATION:G Major
CATEGORIES:Concerts,Special Event
ATTACH;FMTTYPE=audio/mpeg:https://elivia.com/wp-content/uploads/2015/09/C_Major_wing.mp3
END:VEVENT
BEGIN:VEVENT
DTSTART;TZID=America/Los_Angeles:20190208T180000
DTEND;TZID=America/Los_Angeles:20190208T210000
DTSTAMP:20260425T234252
CREATED:20190201T143728Z
LAST-MODIFIED:20190201T143728Z
UID:10000004-1549648800-1549659600@elivia.com
SUMMARY:Eight Harmony Grand Opening in La Jolla
DESCRIPTION:I will be one of the guest presenters at the grand opening of this very special wellness center. \n \nThe topic of my talk will be “Opening to Love.” I’ll be sharing how the crystal kingdom can support you energetically in so many ways to assist you with heart healing and safely opening more deeply to receiving limitless love in your life now. I’ll be bringing a number of gemstones and crystals and assisting attendees with discovering which gemstones and crystals will work most effectively to address their needs. \nThis is a highly specialized healing salon which uses some of the most advanced state of the art sound and energy healing equipment. Their web site is still under construction. If you would like to attend the Grand Opening or if you have any questions\,  just contact them through their website here. https://8harmony.com/ \n  \n 
URL:https://elivia.com/single-post-name/eight-harmony-grand-opening-in-la-jolla/
CATEGORIES:Special Event
END:VEVENT
END:VCALENDAR