BEGIN:VCALENDAR
VERSION:2.0
PRODID:-//Elivia.com - ECPv6.15.20//NONSGML v1.0//EN
CALSCALE:GREGORIAN
METHOD:PUBLISH
X-ORIGINAL-URL:https://elivia.com
X-WR-CALDESC:Events for Elivia.com
REFRESH-INTERVAL;VALUE=DURATION:PT1H
X-Robots-Tag:noindex
X-PUBLISHED-TTL:PT1H
BEGIN:VTIMEZONE
TZID:America/Los_Angeles
BEGIN:DAYLIGHT
TZOFFSETFROM:-0800
TZOFFSETTO:-0700
TZNAME:PDT
DTSTART:20180311T100000
END:DAYLIGHT
BEGIN:STANDARD
TZOFFSETFROM:-0700
TZOFFSETTO:-0800
TZNAME:PST
DTSTART:20181104T090000
END:STANDARD
BEGIN:DAYLIGHT
TZOFFSETFROM:-0800
TZOFFSETTO:-0700
TZNAME:PDT
DTSTART:20190310T100000
END:DAYLIGHT
BEGIN:STANDARD
TZOFFSETFROM:-0700
TZOFFSETTO:-0800
TZNAME:PST
DTSTART:20191103T090000
END:STANDARD
BEGIN:DAYLIGHT
TZOFFSETFROM:-0800
TZOFFSETTO:-0700
TZNAME:PDT
DTSTART:20200308T100000
END:DAYLIGHT
BEGIN:STANDARD
TZOFFSETFROM:-0700
TZOFFSETTO:-0800
TZNAME:PST
DTSTART:20201101T090000
END:STANDARD
END:VTIMEZONE
BEGIN:VEVENT
DTSTART;TZID=America/Los_Angeles:20190601T100000
DTEND;TZID=America/Los_Angeles:20190601T160000
DTSTAMP:20260424T124419
CREATED:20190501T160516Z
LAST-MODIFIED:20190501T160516Z
UID:10000066-1559383200-1559404800@elivia.com
SUMMARY:Harmony Grove Spiritualist Association Psychic Fair & 123 yr. Camp Opening Celebration
DESCRIPTION:Raising the flag for the official start of the 123rd year of the Camp Opening and Psychic Fair\nPlease join us for our 123rd Camp Season Opening: June 1\, 2019 \nOpening Ceremony Saturday 9:00 AM \nPsychic Fair readers and Vendors on the Green from 10:00 AM – 4:00 PM. \n \nReadings are $25 for 15 min. \n• Guest Speakers\n• Vendors with crafts & special gifts\n• Raffle of crafts\, gifts\, & services (e.g readings)\n• Food\, music\, crystal bowls\, & sharing \n9:15 am: Flag Raising with Rancho Santa Fe Fire Department \n10:00 am – 4:00 PM: Psychic Fair \nAll Day Activities: Raffles of Crafts\, Gifts and Services \nBe sure to stop by my booth to take in the energy of all my New Crystals and Singing Crystal Bowls along with wonderful Gemstone Jewelry! \n~~~~~~~~~~~~~~~~~~~~~~~~~~~~~~~~~~ \nUp until the 1960’s the Camp Openings included the local Native Americans who joined in Pow-Wow. Honoring this tradition\, the Camp Opening at Harmony Grove often includes Native American Dancing and Drum Circles. Camp Opening ceremonies\, begin with a prayer\, which includes a tribute to all the Harmony Grove Pioneers who have passed and to the troops in combat. Raising of the flag signals the official “Opening of the Camp” to visitors! \nThe various volunteer Harmony Grove committees set up tables on Membership\, Harmony Grove Institutes\,History\, as well as Fundraising. Silent auctions and prizes are spearheaded by the Ways and Means Committee. So it’s a great opportunity to learn all about Harmony Grove Spiritualist Association. \nIt is a festive weekend with hometown flair with discovery and delight for the whole family. Meals\, snacks\, and refreshments are served in Fellowship Hall throughout the day. The Chili- Cook-off and Bake-offs draw many creative culinary entrants!  Free presentations\, talks and lectures on Spiritualist Topics are offered throughout the day as well as events centered around the Medicine Wheel and Labyrinth. The Psychic Playground area draws children and adults! The Green takes on a festival atmosphere with cotton candy and popcorn filling the air. The root beer floats are always popular! \n Vendor booths\, healers\, and mediums set up their booths to present a delightful and enriching selection of offerings. These may include aura photography\, psychic artists\, and spirit-inspired art. Mediums offer their gifts\, as medical intuitives\, animal communicators and evidential contact with loved ones who have passed over. A variety of mediums and psychic readers include: smoke readings\, tarot readings\, palm readings\, angel\, teachers and guides readings\, or flower readings. Healers include: animal healers\, laying on of hands\, energy healing\, Reiki\, and massage. The merchandise booths include Crystals\, handcrafted Jewelry\, Scarves\, Ceramics\, Objects of Delight\, Baked goodies\, Books\, and Healing tools such as Orgone pyramids\, wands\, and sacred geometry. \n~~~~~~~~~~ \nWe hope you will also join us on Sunday\, June 2  \nSpecial All – Healing Service  \n held in the Meditation Garden. \n10:30 AM – Healing Service  Drumming & Crystals Bowls \n\n\nPlease join Reverends and AMCs for refreshments\, music and fellowship in Fellowship Hall\nfollowing services. \n 
URL:https://elivia.com/single-post-name/harmony-grove-spiritualist-association-psychic-fair-123-yr-camp-opening-celebration/
CATEGORIES:Psychic Fair,Special Event
END:VEVENT
BEGIN:VEVENT
DTSTART;TZID=America/Los_Angeles:20190317T100000
DTEND;TZID=America/Los_Angeles:20190317T180000
DTSTAMP:20260424T124419
CREATED:20190228T124120Z
LAST-MODIFIED:20190228T124120Z
UID:10000005-1552816800-1552845600@elivia.com
SUMMARY:Psychic Fair in Carlsbad - Free Tickets
DESCRIPTION:Join us at the New Earth Expo Psychic Fair in Carlsbad on Sunday March 17\, from 10 AM – 6 PM. \nGet your Free Psychic Fair Pass online  here   for the Holistic Living Expo Psychic Fair on March 17\, in Carlsbad. \nYou’re invited to join psychics\, mystics\, mediums\, healers and visionary artists from around the world at the New Earth Expo Psychic Fair.  Informative\, enlightening and entertaining free lectures all day long in 2 areas. \nBe sure to stop by my booth in the very back of the room and treat yourself to a very special selection of wonderful crystals\, gems\, minerals\, and healing stones for sale\, along with the Crystal Vibrations Music and of course\, crystal singing bowls at prices you can afford!! I have lots of new frosted and handheld singing crystal bowls\, so come receive a free healing sound bath that day! \nI’ll also be available for psychic readings\n \nFor your Free Tickets Click here:  \nI”ll be giving a Special Free Presentation on- Empowering Empaths – Learning to Soar with your Superpowers! \nDiscover easy practices you can put to use immediately to keep yourself sharp\, secure and safe as you navigate the world of Poor Energy Hygiene! \nGo Here for a list of exhibitors\, speakers\, presentations & schedule for this Holistic Living Expo Psychic Fair. \nThis Expo is will be held at a new location: Carlsbad Holiday Inn\, 2725 Palomar Airport Road\, Carlsbad\, CA 92009
URL:https://elivia.com/single-post-name/psychic-fair-in-carlsbad-free-tickets-3/
CATEGORIES:Psychic Fair
END:VEVENT
BEGIN:VEVENT
DTSTART;TZID=America/Los_Angeles:20190310T100000
DTEND;TZID=America/Los_Angeles:20190310T180000
DTSTAMP:20260424T124419
CREATED:20181231T172416Z
LAST-MODIFIED:20181231T172416Z
UID:10000034-1552212000-1552240800@elivia.com
SUMMARY:Psychic Fair in Mission Valley - Free Tickets
DESCRIPTION:Join us at the Psychic Fair in Mission Valley on Sun\, March 10   \n Crowne Plaza Hotel in San Diego – Mission Valley. \nNEW LOCATION  ~ New LOCATION ~ NEW LOCATION \nSignup to get your FREE admission ticket  \nFor more info on raffle prizes\, speakers\, vendors\, holistic health practitioners\, and spiritual counselors\, go here.  \nYour Free Admission ($10) value gives you Free Access to all the Speakers & Exhibit Hall. \nPlease share this event and invite your Friends. Parking is $5 for this event with validation\, normally $8.Please share this event and invite your Friends. Parking is $5 for this event with validation\, normally $8. \nSpend the day with a group of fabulous psychics\, mystics\, mediums\, healers and visionary artists from around the world at the Psychic Fair Mission Valley.  Informative\, enlightening and entertaining free lectures all day long in 2 areas. Some of the speakers also give “messages from Spirit” as a part of their talk. So be sure to check out the schedule as you won’t want to miss anything. There’s always something new to learn and discover at the Psychic Fair! \nAt the Psychic Fair in Mission Valley\, you’ll want to stop by my booth in the front of the room. Treat yourself to a very special selection of wonderful crystals\, gems\, minerals\, and healing stones for sale\, along with the Crystal Vibrations Music. Of course\, I’ll have wonderful crystal singing bowls at prices you can afford!! \nI also have some new singing crystal bowl carrying cases and some amazing new bowls\, so come to receive a free healing sound bath that day! I always have some new and unique healing gemstones to share\, so be sure to ask me what my latest discovery is! I make a point of stocking those hard to find\, high energy healing crystals. \nI’ll also be available for psychic readings. With so many gifted readers to choose from at the Psychic Fair in Mission Valley\, you can have several readings while you’re at the Psychic Fair. There will also be all kinds of energy healers. You can take this opportunity to learn and experience some new healing modalities. \nI”ll be giving a Special Free Presentation on- Empowering Empaths\, Energy Alchemy to Support your Super Powers \nAt the Psychic Fair Mission Valley\, you can learn which stones are most effective and how to work with them in ways that bring results! Explore how powerful crystals are for assisting us in 3 important areas of our lives. Learn which stones are most effective and how to work with them in ways that bring results! \nGo Here for a list of exhibitors\, speakers\, presentations & schedule for this Psychic Fair in Mission Valley.
URL:https://elivia.com/single-post-name/psychic-fair-in-mission-valley-5/
CATEGORIES:Psychic Fair
ATTACH;FMTTYPE=image/jpeg:https://elivia.com/wp-content/uploads/2016/01/New-Earth-Expo.jpg
END:VEVENT
BEGIN:VEVENT
DTSTART;TZID=America/Los_Angeles:20190309T100000
DTEND;TZID=America/Los_Angeles:20190309T160000
DTSTAMP:20260424T124419
CREATED:20181231T175508Z
LAST-MODIFIED:20181231T175508Z
UID:10000033-1552125600-1552147200@elivia.com
SUMMARY:Psychic\, Healing and Spirit Faire in Fallbrook
DESCRIPTION:Join us at the Psychic\, Healing and Spirit Faire in Fallbrook\n \nSaturday\, March 9\, 2019\n \nPsychic\, Spirit and Healing Faire in Fallbrook will be held at the Hilltop Center for Spiritual Living\n \nAddress: 331 East Elder Street\, Fallbrook\, CA 92028 \nTime: 10 am-4 pm \nAnita Burns of MetaStudies Institute & Tina Foran of the Holistic Registry Present the 2019 Spring Healing and Spirit Faire \nPsychics – Readers – Healers – vendors – Lectures\, Round-table talks\, and more! \nAngel Cards\, Tarot\, Astrology\, Psychometry\, Akashic readings\, Aromatherapy\, Singing Crystal Bowls\, Crystals\, healing gemstones and more. \n \nAt the Psychic\, Healing and Spirit Faire in Fallbrook\, we have a great line up of only the BEST readers\, vendors\, and speakers who are participating by invitation – Wow!! \nAt this Psychic\, Healing and Spirit Faire in Fallbrook\, you’re invited to join psychics\, mystics\, mediums\, healers and visionary artists from around Southern California at this Inland Empire\, Psychic Fair.  Informative\, enlightening and entertaining free lectures all day long. \nBe sure to stop by my booth when you’re at the Psychic\, Healing and Spirit Faire in Fallbrook. Treat yourself to a very special selection of wonderful crystals\, gems\, minerals\, and healing stones for sale. Naturally\, I’ll have plenty of  Crystal Vibrations Music and of course\, crystal singing bowls at prices you can afford!! I have some amazing new Alchemy Hand Held bowls that you’ll have to hear to believe! Check out my new carrying cases and come receive a free healing sound bath that day! \nCome out and enjoy the day! \nTop-quality readers\, vendors\, healers. Plus Free talks and Lectures by experts in health and spiritual living. \n  And this is just the beginning\, we will post updates as they happen.
URL:https://elivia.com/single-post-name/psychic-healing-and-spirit-faire-in-fallbrook-2/
CATEGORIES:Psychic Fair
ATTACH;FMTTYPE=:
END:VEVENT
BEGIN:VEVENT
DTSTART;TZID=America/Los_Angeles:20190126T100000
DTEND;TZID=America/Los_Angeles:20190126T160000
DTSTAMP:20260424T124419
CREATED:20181229T234028Z
LAST-MODIFIED:20181229T234028Z
UID:10000023-1548496800-1548518400@elivia.com
SUMMARY:Unity Spirit and Healing Faire - Yucaipa Spiritual Center
DESCRIPTION:YOUR ANSWERS AND GUIDANCE AWAIT! \nJanuary 26\, 2019 10am-4pm\nYucaipa Spiritual Center\n35393 Ave. E\, Yucaipa\, CA \nNo Admission Charge. \nReceive messages from loved ones on the other side.\nBe kind to your body with a healing\nUnderstand your life\, and how to make your wishes come true.\nReceive answers and clear guidance.\nFun\, Friends\, Connection to like-minded folk.\nShop for unique\, hand-crafted and natural health and healing products. \nVisit with friends\, meet new AMAZING folk\, have a bite to eat\, relax\, get a healing\, have a reading\, Shop\, Enjoy. \nELIVIA – ISHTARA – ELLEN -BRANDIE -KIM – ANITA – DAVID – MICHELLE – ROBIN – KAREN D – ALLEN – SHERRY – STEVE – NATHAN – TINA – VIRGINIA – JEANETTE – DR. MARIE – NICOLE \n…and maybe some surprises! \nBe sure to stop by my booth when you’re at the Psychic\, Healing and Spirit Faire in Yucaipa Treat yourself to a very special selection of wonderful crystals\, gems\, minerals\, and healing stones for sale. Naturally\, I’ll have plenty of  Crystal Vibrations Music and of course\, crystal singing bowls at prices you can afford!! I have some amazing new Hand Held bowls that you’ll have to hear to believe! Check out my new carrying cases and come receive a free healing sound bath that day! \nCome out and enjoy the day! \nOrganized for the Yucaipa Unity Center for Spiritual Living\, by:\nMetaStudies Institute – Anita Burns – anitaburns1@gmail.com and\nHolistic Registry – Tina Foran – insight2change@yahoo.com
URL:https://elivia.com/single-post-name/unity-spirit-and-healing-faire-yucaipa-spiritual-center/
LOCATION:Crystal Vibes Bowls
CATEGORIES:Psychic Fair
END:VEVENT
END:VCALENDAR