BEGIN:VCALENDAR
VERSION:2.0
PRODID:-//Elivia.com - ECPv6.15.20//NONSGML v1.0//EN
CALSCALE:GREGORIAN
METHOD:PUBLISH
X-ORIGINAL-URL:https://elivia.com
X-WR-CALDESC:Events for Elivia.com
REFRESH-INTERVAL;VALUE=DURATION:PT1H
X-Robots-Tag:noindex
X-PUBLISHED-TTL:PT1H
BEGIN:VTIMEZONE
TZID:UTC
BEGIN:STANDARD
TZOFFSETFROM:+0000
TZOFFSETTO:+0000
TZNAME:UTC
DTSTART:20200101T000000
END:STANDARD
END:VTIMEZONE
BEGIN:VTIMEZONE
TZID:Asia/Krasnoyarsk
BEGIN:STANDARD
TZOFFSETFROM:+0700
TZOFFSETTO:+0700
TZNAME:+07
DTSTART:20200101T000000
END:STANDARD
END:VTIMEZONE
BEGIN:VTIMEZONE
TZID:America/Los_Angeles
BEGIN:DAYLIGHT
TZOFFSETFROM:-0800
TZOFFSETTO:-0700
TZNAME:PDT
DTSTART:20180311T100000
END:DAYLIGHT
BEGIN:STANDARD
TZOFFSETFROM:-0700
TZOFFSETTO:-0800
TZNAME:PST
DTSTART:20181104T090000
END:STANDARD
BEGIN:DAYLIGHT
TZOFFSETFROM:-0800
TZOFFSETTO:-0700
TZNAME:PDT
DTSTART:20190310T100000
END:DAYLIGHT
BEGIN:STANDARD
TZOFFSETFROM:-0700
TZOFFSETTO:-0800
TZNAME:PST
DTSTART:20191103T090000
END:STANDARD
BEGIN:DAYLIGHT
TZOFFSETFROM:-0800
TZOFFSETTO:-0700
TZNAME:PDT
DTSTART:20200308T100000
END:DAYLIGHT
BEGIN:STANDARD
TZOFFSETFROM:-0700
TZOFFSETTO:-0800
TZNAME:PST
DTSTART:20201101T090000
END:STANDARD
END:VTIMEZONE
BEGIN:VEVENT
DTSTART;TZID=UTC:20211016T090000
DTEND;TZID=UTC:20211016T110000
DTSTAMP:20260424T130341
CREATED:20210905T022613Z
LAST-MODIFIED:20210905T022743Z
UID:10000174-1634374800-1634382000@elivia.com
SUMMARY:See Far and See Clearly Energy Class Series
DESCRIPTION:This is the last class in this 3-part virtual class series\, where you’ll learn to fine-tune your ability to read the energy of people\, places\, and organizations from the past\, present and possible futures. See Far and See Clearly!! Discover new ways to see and read energy\, without the limits of time or space. Become your own psychic detective. \nForget the facts!! Learn for yourself the clear truth as energy never lies. \nStudents will learn to See Far and See Clearly Energy Class by reading the energy of famous and infamous people\, both alive and deceased. Discovering what their true motives and agendas were and are. Weekly practice session in viewing with classmates is a required part of this class series. As you get validated and learn to trust this skill\, you’ll be easily able to read the energy and motives of individuals in your present day life. \nIn learning to See Far and See Clearly the energy of places and organizations\, you’ll discover that all that glitters isn’t necessarily gold as energies can easily shift over time. You may also discover some new places that perhaps you’d like to visit and experience now. Data can be shifted in so many ways\, just as history is so often subjective. Discover for yourself the truth behind events and organizations which in the past\, have been shrouded in mystery. \nStarting with some basic protocols and guidelines\, discover how to fine tune your abilities to use your inner senses like a dowsing rod\, building trust as you venture into unknown territories. It’s easy\, fun and eminently rewarding. Now\, more than at any time before\, you have easy access to broaden your natural abilities. Join us for this series in clear seeing \nThis class will meet from 9 – 11 am PST  on Zoom\, the first 3 Saturdays in October.  \nThe fee is $135 for this series.  \nTo Register Click here: \nOnce you’ve registered for class\, you’ll be sent the Zoom links on a weekly basis\, along with class handouts.  \n~~~~~~~~~~~~~~~~~~~~~~~~~~~~~~~~~~ \n \nReverend Elivia Melodey \nClairvoyant from birth\, Rev. Elivia Melodey developed her innate ability to read energy dowsing as a child. She studied art at the Dutch Royal Academy and holds a Masters in Fine Art. She was ordained in 1985 by Rev. Nancy Tappe at Kairos Institute and was sanctioned as a Spiritualist minister at Harmony Grove in 2001. She served 4 terms on the HGSA Board of Directors. \nRev. Elivia holds numerous Masters level certifications for an array of energy healing practices and is a Board certified Past Life Regression and Hypnotherapist. As a conscious trance medium\, he has the ability to communicate with many realms and dimensions. \nRev. Elivia is an accomplished inspirational speaker and has been a keynote and workshop presenter for many spiritually based conferences. Over the last 37 years\, she has held numerous on-going development classes\, workshops and retreats as well as working with thousands of private clients.
URL:https://elivia.com/single-post-name/see-far-and-see-clearly-energy-class-series/
LOCATION:Virtual on Zoom\, 971 Borden Rd\, San Marcos\, CA\, 92069\, United States
CATEGORIES:Classes/Workshops,Mediumship Development,Personal Development
ATTACH;FMTTYPE=image/jpeg:https://elivia.com/wp-content/uploads/2021/09/awakening_2012.jpg
ORGANIZER;CN="Elivia Melodey":MAILTO:eliviamelodey@sbcglobalnet
END:VEVENT
BEGIN:VEVENT
DTSTART;TZID=UTC:20211009T090000
DTEND;TZID=UTC:20211009T110000
DTSTAMP:20260424T130341
CREATED:20210905T022045Z
LAST-MODIFIED:20210905T022734Z
UID:10000173-1633770000-1633777200@elivia.com
SUMMARY:See Far and See Clearly Energy Class Series
DESCRIPTION:This is the second class in this  3-part virtual class series\, where you’ll learn to fine-tune your ability to read the energy of people\, places\, and organizations from the past\, present and possible futures. See Far and See Clearly!! Discover new ways to see and read energy\, without the limits of time or space. Become your own psychic detective. \nForget the facts!! Learn for yourself the clear truth as energy never lies. \nStudents will learn to See Far and See Clearly Energy Class by reading the energy of famous and infamous people\, both alive and deceased. Discovering what their true motives and agendas were and are. Weekly practice session in viewing with classmates is a required part of this class series. As you get validated and learn to trust this skill\, you’ll be easily able to read the energy and motives of individuals in your present day life. \nIn learning to See Far and See Clearly the energy of places and organizations\, you’ll discover that all that glitters isn’t necessarily gold as energies can easily shift over time. You may also discover some new places that perhaps you’d like to visit and experience now. Data can be shifted in so many ways\, just as history is so often subjective. Discover for yourself the truth behind events and organizations which in the past\, have been shrouded in mystery. \nStarting with some basic protocols and guidelines\, discover how to fine tune your abilities to use your inner senses like a dowsing rod\, building trust as you venture into unknown territories. It’s easy\, fun and eminently rewarding. Now\, more than at any time before\, you have easy access to broaden your natural abilities. Join us for this series in clear seeing \nThis class will meet from 9 – 11 am PST  on Zoom\, the first 3 Saturdays in October.  \nThe fee is $135 for this series.  \nTo Register Click here: \nOnce you’ve registered for class\, you’ll be sent the Zoom links on a weekly basis\, along with class handouts.  \n~~~~~~~~~~~~~~~~~~~~~~~~~~~~~~~~~~ \n \nReverend Elivia Melodey \nClairvoyant from birth\, Rev. Elivia Melodey developed her innate ability to read energy dowsing as a child. She studied art at the Dutch Royal Academy and holds a Masters in Fine Art. She was ordained in 1985 by Rev. Nancy Tappe at Kairos Institute and was sanctioned as a Spiritualist minister at Harmony Grove in 2001. She served 4 terms on the HGSA Board of Directors. \nRev. Elivia holds numerous Masters level certifications for an array of energy healing practices and is a Board certified Past Life Regression and Hypnotherapist. As a conscious trance medium\, he has the ability to communicate with many realms and dimensions. \nRev. Elivia is an accomplished inspirational speaker and has been a keynote and workshop presenter for many spiritually based conferences. Over the last 37 years\, she has held numerous on-going development classes\, workshops and retreats as well as working with thousands of private clients.
URL:https://elivia.com/single-post-name/see-far-and-see-clearly-energy-class-series-2/
LOCATION:Virtual on Zoom\, 971 Borden Rd\, San Marcos\, CA\, 92069\, United States
CATEGORIES:Classes/Workshops,Mediumship Development,Personal Development
ATTACH;FMTTYPE=image/jpeg:https://elivia.com/wp-content/uploads/2021/09/awakening_2012.jpg
ORGANIZER;CN="Elivia Melodey":MAILTO:eliviamelodey@sbcglobalnet
END:VEVENT
BEGIN:VEVENT
DTSTART;TZID=Asia/Krasnoyarsk:20211002T090000
DTEND;TZID=Asia/Krasnoyarsk:20211002T110000
DTSTAMP:20260424T130341
CREATED:20210905T021152Z
LAST-MODIFIED:20210905T022553Z
UID:10000336-1633165200-1633172400@elivia.com
SUMMARY:See Far and See Clearly Energy Class Series
DESCRIPTION:In this 3-part virtual class series\, you’ll learn to fine-tune your ability to read the energy of people\, places\, and organizations from the past\, present and possible futures. See Far and See Clearly!! Discover new ways to see and read energy\, without the limits of time or space. Become your own psychic detective. \nForget the facts!! Learn for yourself the clear truth as energy never lies. \nStudents will learn to See Far and See Clearly Energy Class by reading the energy of famous and infamous people\, both alive and deceased. Discovering what their true motives and agendas were and are. Weekly practice session in viewing with classmates is a required part of this class series. As you get validated and learn to trust this skill\, you’ll be easily able to read the energy and motives of individuals in your present day life. \nIn learning to See Far and See Clearly the energy of places and organizations\, you’ll discover that all that glitters isn’t necessarily gold as energies can easily shift over time. You may also discover some new places that perhaps you’d like to visit and experience now. Data can be shifted in so many ways\, just as history is so often subjective. Discover for yourself the truth behind events and organizations which in the past\, have been shrouded in mystery. \nStarting with some basic protocols and guidelines\, discover how to fine tune your abilities to use your inner senses like a dowsing rod\, building trust as you venture into unknown territories. It’s easy\, fun and eminently rewarding. Now\, more than at any time before\, you have easy access to broaden your natural abilities. Join us for this series in clear seeing \nThis class will meet from 9 – 11 am PST  on Zoom\, the first 3 Saturdays in October.  \nThe fee is $135 for this series.  \nTo Register Click here: \nOnce you’ve registered for class\, you’ll be sent the Zoom links on a weekly basis\, along with class handouts.  \n~~~~~~~~~~~~~~~~~~~~~~~~~~~~~~~~~~ \n \nReverend Elivia Melodey \nClairvoyant from birth\, Rev. Elivia Melodey developed her innate ability to read energy dowsing as a child. She studied art at the Dutch Royal Academy and holds a Masters in Fine Art. She was ordained in 1985 by Rev. Nancy Tappe at Kairos Institute and was sanctioned as a Spiritualist minister at Harmony Grove in 2001. She served 4 terms on the HGSA Board of Directors. \nRev. Elivia holds numerous Masters level certifications for an array of energy healing practices and is a Board certified Past Life Regression and Hypnotherapist. As a conscious trance medium\, he has the ability to communicate with many realms and dimensions. \nRev. Elivia is an accomplished inspirational speaker and has been a keynote and workshop presenter for many spiritually based conferences. Over the last 37 years\, she has held numerous on-going development classes\, workshops and retreats as well as working with thousands of private clients.
URL:https://elivia.com/single-post-name/see-far-and-see-clearly-energy-class-series-3/
LOCATION:Virtual on Zoom\, 971 Borden Rd\, San Marcos\, CA\, 92069\, United States
CATEGORIES:Classes/Workshops,Mediumship Development,Personal Development
ATTACH;FMTTYPE=image/jpeg:https://elivia.com/wp-content/uploads/2021/09/awakening_2012.jpg
ORGANIZER;CN="Elivia Melodey":MAILTO:eliviamelodey@sbcglobalnet
END:VEVENT
BEGIN:VEVENT
DTSTART;TZID=America/Los_Angeles:20190713T130000
DTEND;TZID=America/Los_Angeles:20190713T170000
DTSTAMP:20260424T130341
CREATED:20190509T163857Z
LAST-MODIFIED:20190509T163857Z
UID:10000116-1563022800-1563037200@elivia.com
SUMMARY:Empowering Empaths Class
DESCRIPTION:Saturday\, July 13 from 1 – 5 at Elivia’s home in San Marcos \nAre you a Highly Sensitive Person?? If so\, then this workshop is made for you! \n \nJoin us in a safe\, uplifting and supportive gathering \n to clear\, heal and empower your Spirit \nThis special “first of its kind” workshop with Elivia came into being as a result of her clients\, students and friend’s request. We are all sensitive\, so first\, off we’ll discover if you are an Empath or simply a sensitive person! \nEach Empath is unique when it comes to their energetic sensitivities. \nWe will be focusing on \nDecoding and Understanding your energy process. \n\nDiscovering your special opportunities and obstacles in life.\nHealing past wounds- clearing the victim and post-traumatic stress energy carried by most Empaths.\nLearning “New and Improved” ways to stay safe\, protected and clear.\nExperiencing playing with your Superpowers and having Fun!!\n\nThis is an interactive workshop \nSpace is limited at this special workshop so get your reservation in early. \nRSVP at this link \nElivia Melodey is a renowned Spiritual medium\, inspirational speaker and sound healer as well as the founder of the Crystal Vibrations Music Label. She presents concerts\, workshops\, and readings throughout the United States and is a highly respected spiritual teacher. Dubbed “The Angel Whisperer” for her accuracy in Spiritual Life Readings by Awareness Magazine\, Elivia developed her innate ability to read energy\, dowsing as a child and has been an ordained Spiritualist minister since 1985. With the release of four critically acclaimed CDs\, she has established herself as a recording artist whose music is used in healing and spiritual centers around the world. A woman with many gifts\, Elivia is also accomplished in Shamanic journeys\, Reiki Master\, Jin Shin Jyutsu and Lightbody Practitioner\, Certified Trance Medium and holds a Masters of Fine Arts from the University of Florida.
URL:https://elivia.com/single-post-name/empowering-empaths/
LOCATION:CA
CATEGORIES:Classes/Workshops,Personal Development
ATTACH;FMTTYPE=:
END:VEVENT
END:VCALENDAR