BEGIN:VCALENDAR
VERSION:2.0
PRODID:-//Elivia.com - ECPv6.15.20//NONSGML v1.0//EN
CALSCALE:GREGORIAN
METHOD:PUBLISH
X-ORIGINAL-URL:https://elivia.com
X-WR-CALDESC:Events for Elivia.com
REFRESH-INTERVAL;VALUE=DURATION:PT1H
X-Robots-Tag:noindex
X-PUBLISHED-TTL:PT1H
BEGIN:VTIMEZONE
TZID:UTC
BEGIN:STANDARD
TZOFFSETFROM:+0000
TZOFFSETTO:+0000
TZNAME:UTC
DTSTART:20190101T000000
END:STANDARD
END:VTIMEZONE
BEGIN:VTIMEZONE
TZID:America/Los_Angeles
BEGIN:DAYLIGHT
TZOFFSETFROM:-0800
TZOFFSETTO:-0700
TZNAME:PDT
DTSTART:20180311T100000
END:DAYLIGHT
BEGIN:STANDARD
TZOFFSETFROM:-0700
TZOFFSETTO:-0800
TZNAME:PST
DTSTART:20181104T090000
END:STANDARD
BEGIN:DAYLIGHT
TZOFFSETFROM:-0800
TZOFFSETTO:-0700
TZNAME:PDT
DTSTART:20190310T100000
END:DAYLIGHT
BEGIN:STANDARD
TZOFFSETFROM:-0700
TZOFFSETTO:-0800
TZNAME:PST
DTSTART:20191103T090000
END:STANDARD
BEGIN:DAYLIGHT
TZOFFSETFROM:-0800
TZOFFSETTO:-0700
TZNAME:PDT
DTSTART:20200308T100000
END:DAYLIGHT
BEGIN:STANDARD
TZOFFSETFROM:-0700
TZOFFSETTO:-0800
TZNAME:PST
DTSTART:20201101T090000
END:STANDARD
END:VTIMEZONE
BEGIN:VEVENT
DTSTART;TZID=UTC:20200315T150000
DTEND;TZID=UTC:20200315T170000
DTSTAMP:20260424T232604
CREATED:20200123T002357Z
LAST-MODIFIED:20200123T002611Z
UID:10000250-1584284400-1584291600@elivia.com
SUMMARY:Luck of the Irish Spirit Message Circle
DESCRIPTION:  \nIllustration of joyful jumping leprechaun\nCome discover where your good fortune lies at this special St. Patrick’s Day Spirit Message Circle with Irish Medium\, Elivia Melodey. At this Luck of the Irish Spirit Message Circle\, we will be contacting your Joy Guides as well as the Leprechauns to locate just exactly where your personal pot of gold is hidden. It’s there for each of us\, we just have to know where to look!! \nSt. Patrick’s Day has been observed as a religious festival in Ireland for over a thousand years and is now recognized as a celebration of Irish culture and heritage. \nAn afternoon of messages from your Joy Guides and Leprechauns with fun and like-minded people. \nThis circle in San Marcos will start promptly at 3:00 PM so come early. RSVP required. \n$35 in Advance – $45 Day of \nTo Reserve your place Click on this link. \nThis will be held at a private residence in San Marcos. \nYou’ll have specific directions to the address when you RSVP. \n~~~~~~~~~~~~~~~~~~~~~~~ \nAbout Message Circles: \nIf you’ve never attended a Message Circle by Rev. Elivia Melodey\, you’re in for a treat. As a Medium\, she works with your angels\, teachers\, and Guides to bring you messages to help you to move forward with confidence and ease. The ground rules are that all messages are uplifting and supportive\, and never embarrassing. Together with her Guides\, Elivia is known to channel Ascended Masters\, Spirit Guides such as your Master Teacher\, Healer\, and Guardian Angel\, as well as loved ones in Spirit who have crossed over. Questions are always permitted after the initial messages have been given. The “Master of Ceremonies” at most of Elivia’s Messages Circles is her Joy Guide\, Barbara Joy. This wise old soul\, who appears as a young girl delivers the most heartfelt and profoundly empowering information and teachings in a joyous and often humorous manner.
URL:https://elivia.com/single-post-name/luck-of-the-irish-spirit-message-circle-2/
LOCATION:Private home in San Marcos\, San Marcos\, CA\, 92069\, United States
CATEGORIES:Message Circles
ATTACH;FMTTYPE=image/jpeg:https://elivia.com/wp-content/uploads/2020/01/Leprechaun-e1642198678782.jpg
ORGANIZER;CN="Elivia Melodey":MAILTO:eliviamelodey@sbcglobalnet
END:VEVENT
BEGIN:VEVENT
DTSTART;TZID=UTC:20200301T130000
DTEND;TZID=UTC:20200301T150000
DTSTAMP:20260424T232604
CREATED:20200122T231540Z
LAST-MODIFIED:20200122T231540Z
UID:10000249-1583067600-1583074800@elivia.com
SUMMARY:Messages from Spirit Mediumship Circle
DESCRIPTION:This Message Circle will be held in the Healing Temple at Harmony Grove. This Message Circle with Elivia Melodey is open to the public\, with no reservation necessary. \nHere’s a brief description\, just in case you’re thinking of hosting your own!! \nIf you’ve never attended a Messages from Spirit Circle by Rev. Elivia Melodey\, you’re in for a treat. As a Medium\, she works with your angels\, teachers\, and Guides to bring you messages to help you to move forward with confidence and ease. The ground rules are that all messages are uplifting and supportive\, and never embarrassing. Together with her Guides\, Elivia is known to channel Ascended Masters\, Spirit Guides such as your Master Teacher\, Healer\, and Guardian Angel\, as well as loved ones in Spirit who have crossed over. Questions are always permitted after the initial messages have been given. The “Master of Ceremonies” at most of Elivia’s Messages Circles is her Joy Guide\, Barbara Joy. This wise old soul\, who appears as a young girl delivers the most heartfelt and profoundly empowering information and teachings in a joyous and often humorous manner. \nPlease Note: Rev. Elivia can travel to the comfort of your own home\, for your group\, family\, or organization.  If you would prefer to have Rev. Elivia come to your home for a Group Message circle or Family Gathering a travel fee will apply depending on travel time and distance.  Please contact Elivia by email or phone 888-712-3833 for additional information. \nMessage Circles are limited in attendance to 15 people and last approximately 2 – 3 hours. \nIf you would like to schedule a Private Message Circle with Rev. Elivia\, Call 760 593-4544 or contact Elivia. \n\n\n\n~~~~~~~~~~~~~~~~~~~~~~~~~~~~~~~~~~~~~~~~~~~~~~~~~~~~~~~~~~ \nElivia Melodey developed her innate ability to read energy\, dowsing as a child. She’s a Spiritual channel and a vibrational healer as well as an inspirational speaker and founder of the Crystal Vibrations Music Label. A gifted conscious trance medium\, she has the ability to communicate with those who have crossed over as well as with many other Light realms.  Channeling the music of the Angels\, her critically acclaimed music is used in healing and spiritual centers around the world.
URL:https://elivia.com/single-post-name/messages-from-spirit-mediumship-circle-2/
LOCATION:Harmony Grovew Spiritualist Association\, 2975 Washington Circle\, Escondido\, CA\, 92029\, United States
CATEGORIES:Message Circles
ATTACH;FMTTYPE=image/jpeg:https://elivia.com/wp-content/uploads/2020/01/Sunflower.jpg
END:VEVENT
BEGIN:VEVENT
DTSTART;TZID=UTC:20200209T150000
DTEND;TZID=UTC:20200209T170000
DTSTAMP:20260424T232604
CREATED:20200120T040820Z
LAST-MODIFIED:20200120T162814Z
UID:10000244-1581260400-1581267600@elivia.com
SUMMARY:Valentines Day Message Circle for Love Connection
DESCRIPTION:Guidance from Spirit to open you more deeply to Love.\nJoin us just before Valentines Day to discover how you can open more deeply to love! \nSunday\, Feb. 9\, 3 – 5 pm in San Marcos. \n\nYour Love Connection Valentines Day Message Circle for Love Connection is an annual favorite! \nCome join us at a very special Love Connection Valentine’s Day  Message Circle with Spiritualist Medium Elivia Melodey \n\nLearn how to open more deeply to LOVE.\nDiscover where LOVE will blossom for you in the coming year.\nFind your special gifts in the LOVE ZONE\nDemystifying the Soul Mate myth\nBrighten up your Beacon of Love.\n\nAn afternoon of messages from your relationship Spirit Guides with fun and like-minded people. \nThis Love Connection Valentines Day Message Circle in San Marcos will start promptly at 4 PM so come early. RSVP required. \n$35 in Advance – $45 Day of \nClick on this link to reserve your place! \nThis will be held at a private residence so you’ll have specific directions to the address when you RSVP. \n~~~~~~~~~~~~~~~~~~~~~~~~~~~~~~~~~~~~~~~~~~~~~~~~ \nAbout Message Circles: \nIf you’ve never attended a Valentines Day Message Circle for Love Connection by Rev. Elivia Melodey\, you’re in for a treat. As a Medium\, she works with your angels\, teachers\, and Guides to bring you messages to help you to move forward with confidence and ease. The ground rules are that all messages are uplifting and supportive\, and never embarrassing. Together with her Guides\, Elivia is known to channel Ascended Masters\, Spirit Guides such as your Master Teacher\, Healer and Guardian Angel\, as well as loved ones in Spirit who have crossed over. Questions are always permitted after the initial messages have been given. The “Master of Ceremonies” at most of Elivia’s Messages Circles is her Joy Guide\, Barbara Joy. This wise old soul\, who appears as a young girl delivers the most heartfelt and profoundly empowering information and teachings in a joyous and often humorous manner. \n~~~~~~~~~~~~~~~~~~~~~~~~~~~~~~~~~~~~~~~~~~~~ \nRev. Elivia Melodey has been a practicing Spiritualist medium since 1985. She is the former Director of Education at Harmony Grove Spiritualist Association in San Diego and is a highly respected for her accuracy and Mediumship Development skills. Many of her past students are now professional mediums. She has been a keynote speaker at numerous national conferences and has been featured many media outlets.
URL:https://elivia.com/single-post-name/valentines-day-message-circle-for-love-connection-2/
LOCATION:Private home in San Marcos\, San Marcos\, CA\, 92069\, United States
CATEGORIES:Message Circles
ATTACH;FMTTYPE=image/jpeg:https://elivia.com/wp-content/uploads/2020/01/valentine-hearts-3.jpg
ORGANIZER;CN="Elivia Melodey":MAILTO:eliviamelodey@sbcglobalnet
END:VEVENT
BEGIN:VEVENT
DTSTART;TZID=America/Los_Angeles:20191222T170000
DTEND;TZID=America/Los_Angeles:20191222T210000
DTSTAMP:20260424T232604
CREATED:20190909T111101Z
LAST-MODIFIED:20190909T111101Z
UID:10000190-1577034000-1577048400@elivia.com
SUMMARY:Winter Solstice Celebration
DESCRIPTION:  \n \nWinter Solstice Celebration in San Marcos \nPotluck\, Singing Bowl Concert\, Guided Meditation & Messages from Spirit. \nSunday\, December 22: 5:00 – 9:00 p.m.\nPotluck at 5pm ~ Concert at 6pm  \n  Meditation & Messages at 7pm. \nMake Your Reservation Now as this event will Sell Out. \nCost: $35 in advance – $40 day of ~ If space available. \nAt this significant time in our evolution\, Elivia Melodey and Uki MacIsaac invite you to join with them for their Annual Winter Solstice Celebration. These two renowned Spirit Mediums will unite in sacred ceremony to welcome back the return of the Light with all the new life force\, prosperity and awareness that awaits us. The New Earth invites us to consciously co-create the future! \nHonoring the Earth and all the elements that support life\, we will move into sacred space through Ceremony\, Crystal Singing Bowl Concert\, Guided meditation and Messages from the Spirit realm for all. Gain a deeper understanding of the rhythms of your own life and celebrate this great turn of the wheel for Mother Earth. \n \nCome together in community to celebrate the Winter Solstice. Join with old friends and meet new ones in this celebration of sacred music\, inspired meditation and spirit communication. Connecting with Spirit to inspire and uplift you in all ways. \nJoining Elivia on her 45 singing crystal bowls\, Celtic Harp and Symphony Gong will be Guenther Krammer on Didjeridu. \n \n  \nSunday\, December 22: 5:00 – 9:00 p.m.\nPotluck at 5pm ~ Concert at 6pm ~  Meditation & Readings at 7pm. \nMake Your Reservation Now as this event will Sell Out. \n Location: Elivia’s home in San Marcos\, CA 92069 \nThe address and directions will be provided with your paid reservation \nBe sure to bring your favorite yummy dish to share!
URL:https://elivia.com/single-post-name/winter-solstice-celebration-5/
LOCATION:CA
CATEGORIES:Concerts,Message Circles,Special Event
ATTACH;FMTTYPE=:
END:VEVENT
BEGIN:VEVENT
DTSTART;TZID=America/Los_Angeles:20191109T133000
DTEND;TZID=America/Los_Angeles:20191109T163000
DTSTAMP:20260424T232604
CREATED:20190908T231034Z
LAST-MODIFIED:20190908T231034Z
UID:10000187-1573306200-1573317000@elivia.com
SUMMARY:Messages from Spirit - SDRC Private Event
DESCRIPTION:Not a member of the San Diego Reiki Corps? You can support this dynamic non-profit by signing up today and take immediate advantage of their energetically wonderful offerings!!! \nReverend Elivia Melodey is an ordained Spiritualist medium with clairaudient\, clairvoyant\, and clairsentient abilities. Dedicated to personal and world healing\, she offers a wide variety of services. \nAt this special November Offering for all San Diego Reiki Corps Members Only Event\, Rev. Elivia will be offering a Message from Spirit for Each of Us! \nThis event is limited to 30 people. Get your reservation in early as this will Sell Out!! \nGo to San Diego Reiki Corp’s site to Register Today!! \nAs a Spiritual Medium\, she also offers counseling sessions for individuals\, couples\, families and group Message Circles. She is a Past Life Regression therapist and Master Light worker\, who is\nalso available for remote and in-person Clearing session for healing and personal Sound Attunements. As a minister\, Rev. Elivia conducts lecture services\, ceremonies and performs sacred music presentation. \nAbout the San Diego Reiki Corps \nThe primary objective of the San Diego Reiki Corps is to create a Reiki community in which its members can join together to educate\, support\, and share experiences among ourselves and with others in the ways of self mastery through the practice of Reiki. The secondary objective is to work toward individual and collective growth to benefit all members\, all clients\, and all who come to share their healing journey and Reiki with us. \nTo achieve these objectives\, the San Diego Reiki Corps works to bring the Reiki community together\, provides healing services to our local communities\, and conducts educational classes for both members and the general public. We hold quarterly gatherings to provide opportunities for networking and presentations from experts on topics of interest. We also publish quarterly News Letters to keep our members informed about our activities and to solicit support for community events and activities. \nThe San Diego Reiki Corps\, Inc. was officially established in May 2009 as a 501(c)(3)\, non-profit\, and a federally classified public charity\, under the educational banner. \n 
URL:https://elivia.com/single-post-name/messages-from-spirit-sdrc-private-event/
LOCATION:CA
CATEGORIES:Message Circles
ATTACH;FMTTYPE=:
END:VEVENT
BEGIN:VEVENT
DTSTART;TZID=America/Los_Angeles:20191031T190000
DTEND;TZID=America/Los_Angeles:20191031T213000
DTSTAMP:20260424T232604
CREATED:20190908T194749Z
LAST-MODIFIED:20190908T194749Z
UID:10000185-1572548400-1572557400@elivia.com
SUMMARY:Elivia's Annual All Hallows Eve Seance
DESCRIPTION:All Hollows Eve Séance – Messages from the “Other Side” \nAll Hallows Eve Seance Special  Offering:  Join Elivia with a special group of Guest Mediums to receive personal information from loved ones who have crossed over. \n Do you have a Loved One in Spirit\, who is no longer among us? Would you like to hear from them? Then the All Hallows Eve Seance is your perfect opportunity!\n \nThe phone lines to the “Other Side” are wide open on All Hallows’ Eve! We have some really gifted Evidential Mediums who will be joining us that evening. Spirit Communication is what Mediums excel at! Allow us to be the channels to connect you with your Loved Ones in Spirit. Don’t delay as this All Hallows Eve Seance size is limited.  \nCost is $35 in advance  $55 day of.  \n\nThis Circle is limited and will Sell Out so \nRSVP EARLY Click on this Link to make your Reservation\n\nQuestions call Elivia at 760-471-7304. \nTime: 7 PM – 9:30 PM \nLocation: Private home in San Marcos\, CA. \nDirections will be sent to you upon your reservation. \n \n~~~~~~~~~~~~~~~~~~~~~~~~~~ \nElivia Melodey is a renowned Spiritual medium\, inspirational speaker and sound healer as well as the founder of the Crystal Vibrations Music Label. She presents concerts\, workshops\, and readings throughout the United States and is a highly respected spiritual teacher. Dubbed “The Angel Whisperer” for her accuracy in Spiritual Life Readings by Awareness Magazine\, Elivia developed her innate ability to read energy\, dowsing as a child and has been an ordained Spiritualist minister since 1985. With the release of four critically acclaimed CDs\, she has established herself as a recording artist whose music is used in healing and spiritual centers around the world. A woman with many gifts\, Elivia is also accomplished in Shamanic journeys\, Reiki Master\, Jin Shin Jyutsu and Lightbody Practitioner\, Certified Trance Medium and holds a Masters of Fine Arts from the University of Florida. \n 
URL:https://elivia.com/single-post-name/elivias-annual-all-hallows-eve-seance-2/
LOCATION:CA
CATEGORIES:Message Circles,Special Event
ATTACH;FMTTYPE=:
END:VEVENT
BEGIN:VEVENT
DTSTART;TZID=America/Los_Angeles:20190728T130000
DTEND;TZID=America/Los_Angeles:20190728T150000
DTSTAMP:20260424T232604
CREATED:20190528T151404Z
LAST-MODIFIED:20190528T151404Z
UID:10000134-1564318800-1564326000@elivia.com
SUMMARY:Messages from Spirit Mediumship Circle
DESCRIPTION:This Message Circle with Elivia Melodey is open to the public\, with no reservation necessary. \nHere’s a brief description\, just in case you’re thinking of hosting your own!! \nIf you’ve never attended a Messages from Spirit Circle by Rev. Elivia Melodey\, you’re in for a treat. As a Medium\, she works with your angels\, teachers\, and Guides to bring you messages to help you to move forward with confidence and ease. The ground rules are that all messages are uplifting and supportive\, and never embarrassing. Together with her Guides\, Elivia is known to channel Ascended Masters\, Spirit Guides such as your Master Teacher\, Healer\, and Guardian Angel\, as well as loved ones in Spirit who have crossed over. Questions are always permitted after the initial messages have been given. The “Master of Ceremonies” at most of Elivia’s Messages Circles is her Joy Guide\, Barbara Joy. This wise old soul\, who appears as a young girl delivers the most heartfelt and profoundly empowering information and teachings in a joyous and often humorous manner. \nThe sunflower is the symbol for Spiritualism as it always turns its head toward the Light.\nPlease Note: Rev. Elivia can travel to the comfort of your own home\, for your group\, family\, or organization.  If you would prefer to have Rev. Elivia come to your home for a Group Message circle or Family Gathering a travel fee will apply depending on travel time and distance.  Please contact Elivia by email or phone 888-712-3833 for additional information. \nMessage Circles are limited in attendance to 15 people and last approximately 2 – 3 hours. \nIf you would like to schedule a Private Message Circle with Rev. Elivia\, Call 760 593-4544 or contact Elivia. \n\n\n\n~~~~~~~~~~~~~~~~~~~~~~~~~~~~~~~~~~~~~~~~~~~~~~~~~~~~~~~~~~ \nElivia Melodey developed her innate ability to read energy\, dowsing as a child. She’s a Spiritual channel and a vibrational healer as well as an inspirational speaker and founder of the Crystal Vibrations Music Label. A gifted conscious trance medium\, she has the ability to communicate with those who have crossed over as well as with many other Light realms.  Channeling the music of the Angels\, her critically acclaimed music is used in healing and spiritual centers around the world.
URL:https://elivia.com/single-post-name/messages-from-spirit-mediumship-circle/
LOCATION:CA
CATEGORIES:Message Circles
ATTACH;FMTTYPE=:
END:VEVENT
BEGIN:VEVENT
DTSTART;TZID=America/Los_Angeles:20190512T130000
DTEND;TZID=America/Los_Angeles:20190512T150000
DTSTAMP:20260424T232604
CREATED:20190326T214357Z
LAST-MODIFIED:20190326T214357Z
UID:10000010-1557666000-1557673200@elivia.com
SUMMARY:Spirit Message Circle at Harmony Grove
DESCRIPTION:This Message Circle with Elivia Melodey is open to the public\, with no reservation necessary. \nHere’s a brief description\, just in case you’re thinking of hosting your own!! \nIf you’ve never attended a Messages from Spirit Circle by Rev. Elivia Melodey\, you’re in for a treat. As a Medium\, she works with your angels\, teachers\, and Guides to bring you messages to help you to move forward with confidence and ease. The ground rules are that all messages are uplifting and supportive\, and never embarrassing. Together with her Guides\, Elivia is know to channel Ascended Masters\, Spirit Guides such as your Master Teacher\, Healer and Guardian Angel\, as well as loved ones in Spirit who have crossed over. Questions are always permitted after the initial messages have been given. The “Master of Ceremonies” at most of Elivia’s Messages Circles is her Joy Guide\, Barbara Joy. This wise old soul\, who appears as a young girl delivers the most heart-felt and profoundly empowering information and teachings in a joyous and often humorous manner. \nThe sunflower is the symbol for Spiritualism as it always turns its head toward the Light.\nPlease Note: Rev. Elivia can travel to the comfort of your own home\, for your group\, family\, or organization.  If you would prefer to have Rev. Elivia come to your home for a Group Message circle or Family Gathering a travel fee will apply depending on travel time and distance.  Please contact Elivia by email or phone 888-712-3833 for additional information. \nMessage Circles are limited in attendance to 15 people and last approximately 2 – 3 hours. \nIf you would like to schedule a Private Message Circle with Rev. Elivia\, Call 760 593-4544 or contact Elivia. \n\n\n\n~~~~~~~~~~~~~~~~~~~~~~~~~~~~~~~~~~~~~~~~~~~~~~~~~~~~~~~~~~ \nElivia Melodey developed her innate ability to read energy\, dowsing as a child. She’s a Spiritual channel and a vibrational healer as well as an inspirational speaker and founder of the Crystal Vibrations Music Label. A gifted conscious trance medium\, she has the ability to communicate with those who have crossed over as well as with many other Light realms.  Channeling the music of the Angels\, her critically acclaimed music is used in healing and spiritual centers around the world.
URL:https://elivia.com/single-post-name/spirit-message-circle-at-harmony-grove-3/
LOCATION:CA
CATEGORIES:Message Circles
ATTACH;FMTTYPE=:
END:VEVENT
BEGIN:VEVENT
DTSTART;TZID=America/Los_Angeles:20190316T160000
DTEND;TZID=America/Los_Angeles:20190316T180000
DTSTAMP:20260424T232604
CREATED:20181231T165007Z
LAST-MODIFIED:20181231T165007Z
UID:10000027-1552752000-1552759200@elivia.com
SUMMARY:Luck of the Irish Spirit Message Circle
DESCRIPTION:Illustration of joyful jumping leprechaun\nThe Luck of the Irish is within each of us. \nCome discover where your good fortune lies at this special St. Patrick’s Day Spirit Message Circle with Irish Medium\, Elivia Melodey. At this Luck of the Irish Spirit Message Circle\, we will be contacting your Joy Guides as well as the Leprechauns to locate just exactly where your personal pot of gold is hidden. It’s there for each of us\, we just have to know where to look!! \nSt. Patrick’s Day has been observed as a religious festival in Ireland for over a thousand years and is now recognized as a celebration of Irish culture and heritage. \nAn afternoon of messages from your Joy Guides and Leprechauns with fun and like-minded people. \nThis circle in San Marcos will start promptly at 4:00 PM so come early. RSVP required. \n$35 in Advance – $45 Day of \nTo Reserve your place Click on this link. \nThis will be held at a private residence in San Marcos. \nYou’ll have specific directions to the address when you RSVP. \n~~~~~~~~~~~~~~~~~~~~~~~ \nAbout Message Circles: \nIf you’ve never attended a Message Circle by Rev. Elivia Melodey\, you’re in for a treat. As a Medium\, she works with your angels\, teachers\, and Guides to bring you messages to help you to move forward with confidence and ease. The ground rules are that all messages are uplifting and supportive\, and never embarrassing. Together with her Guides\, Elivia is known to channel Ascended Masters\, Spirit Guides such as your Master Teacher\, Healer\, and Guardian Angel\, as well as loved ones in Spirit who have crossed over. Questions are always permitted after the initial messages have been given. The “Master of Ceremonies” at most of Elivia’s Messages Circles is her Joy Guide\, Barbara Joy. This wise old soul\, who appears as a young girl delivers the most heartfelt and profoundly empowering information and teachings in a joyous and often humorous manner.
URL:https://elivia.com/single-post-name/luck-of-the-irish-spirit-message-circle/
LOCATION:CA
CATEGORIES:Message Circles
ATTACH;FMTTYPE=image/jpeg:https://elivia.com/wp-content/uploads/2017/02/lucky_leprechaun_at_the_end_of_the_rainbow_with_a_pot_of_gold_0515-1003-1515-5713_SMU.jpg
END:VEVENT
BEGIN:VEVENT
DTSTART;TZID=America/Los_Angeles:20190210T160000
DTEND;TZID=America/Los_Angeles:20190210T180000
DTSTAMP:20260424T232604
CREATED:20181231T160615Z
LAST-MODIFIED:20181231T160615Z
UID:10000029-1549814400-1549821600@elivia.com
SUMMARY:Valentines Day Message Circle for Love Connection
DESCRIPTION:Guidance from Spirit to open you more deeply to Love.\nJoin us just before Valentines Day to discover how you can open more deeply to love! \nSunday\, Feb. 10\, 4 – 6 pm in San Marcos. \n\nYour Love Connection Valentines Day Message Circle for Love Connection is an annual favorite! \nCome join us at a very special Love Connection Valentine’s Day  Message Circle with Spiritualist Medium Elivia Melodey \n\nLearn how to open more deeply to LOVE.\nDiscover where LOVE will blossom for you in the coming year.\nFind your special gifts in the LOVE ZONE\nDemystifying the Soul Mate myth\nBrighten up your Beacon of Love.\n\nAn afternoon of messages from your relationship Spirit Guides with fun and like-minded people. \nThis Love Connection Valentines Day Message Circle in San Marcos will start promptly at 4 PM so come early. RSVP required. \n$35 in Advance – $45 Day of \nClick on this link to reserve your place! \nThis will be held at a private residence so you’ll have specific directions to the address when you RSVP. \n~~~~~~~~~~~~~~~~~~~~~~~~~~~~~~~~~~~~~~~~~~~~~~~~ \nAbout Message Circles: \nIf you’ve never attended a Valentines Day Message Circle for Love Connection by Rev. Elivia Melodey\, you’re in for a treat. As a Medium\, she works with your angels\, teachers\, and Guides to bring you messages to help you to move forward with confidence and ease. The ground rules are that all messages are uplifting and supportive\, and never embarrassing. Together with her Guides\, Elivia is known to channel Ascended Masters\, Spirit Guides such as your Master Teacher\, Healer and Guardian Angel\, as well as loved ones in Spirit who have crossed over. Questions are always permitted after the initial messages have been given. The “Master of Ceremonies” at most of Elivia’s Messages Circles is her Joy Guide\, Barbara Joy. This wise old soul\, who appears as a young girl delivers the most heartfelt and profoundly empowering information and teachings in a joyous and often humorous manner. \n~~~~~~~~~~~~~~~~~~~~~~~~~~~~~~~~~~~~~~~~~~~~ \nRev. Elivia Melodey has been a practicing Spiritualist medium since 1985. She is the former Director of Education at Harmony Grove Spiritualist Association in San Diego and is a highly respected for her accuracy and Mediumship Development skills. Many of her past students are now professional mediums. She has been a keynote speaker at numerous national conferences and has been featured many media outlets.
URL:https://elivia.com/single-post-name/valentines-day-message-circle-for-love-connection/
LOCATION:CA
CATEGORIES:Message Circles
ATTACH;FMTTYPE=image/jpeg:https://elivia.com/wp-content/uploads/2016/01/valentine-hearts-3.jpg
END:VEVENT
END:VCALENDAR