BEGIN:VCALENDAR
VERSION:2.0
PRODID:-//Elivia.com - ECPv6.15.20//NONSGML v1.0//EN
CALSCALE:GREGORIAN
METHOD:PUBLISH
X-WR-CALNAME:Elivia.com
X-ORIGINAL-URL:https://elivia.com
X-WR-CALDESC:Events for Elivia.com
REFRESH-INTERVAL;VALUE=DURATION:PT1H
X-Robots-Tag:noindex
X-PUBLISHED-TTL:PT1H
BEGIN:VTIMEZONE
TZID:America/Los_Angeles
BEGIN:DAYLIGHT
TZOFFSETFROM:-0800
TZOFFSETTO:-0700
TZNAME:PDT
DTSTART:20180311T100000
END:DAYLIGHT
BEGIN:STANDARD
TZOFFSETFROM:-0700
TZOFFSETTO:-0800
TZNAME:PST
DTSTART:20181104T090000
END:STANDARD
BEGIN:DAYLIGHT
TZOFFSETFROM:-0800
TZOFFSETTO:-0700
TZNAME:PDT
DTSTART:20190310T100000
END:DAYLIGHT
BEGIN:STANDARD
TZOFFSETFROM:-0700
TZOFFSETTO:-0800
TZNAME:PST
DTSTART:20191103T090000
END:STANDARD
BEGIN:DAYLIGHT
TZOFFSETFROM:-0800
TZOFFSETTO:-0700
TZNAME:PDT
DTSTART:20200308T100000
END:DAYLIGHT
BEGIN:STANDARD
TZOFFSETFROM:-0700
TZOFFSETTO:-0800
TZNAME:PST
DTSTART:20201101T090000
END:STANDARD
END:VTIMEZONE
BEGIN:VEVENT
DTSTART;TZID=America/Los_Angeles:20190728T103000
DTEND;TZID=America/Los_Angeles:20190728T120000
DTSTAMP:20260424T162148
CREATED:20190528T150647Z
LAST-MODIFIED:20190528T150647Z
UID:10000133-1564309800-1564315200@elivia.com
SUMMARY:Guest Minster at Harmony Grove Spiritualist Assn.
DESCRIPTION:You are cordially invited to join Elivia this Sunday where she will be the Guest Minister at Harmony Grove Spiritualist Association. She has been serving Harmony Grove as a Guest Minister for over 18 years. A conscious trance medium\, Elivia’s lectures are always inspiring\, uplifting and thought-provoking. \nHealing Service at Harmony Grove Spiritualist Association is at 10:30 with inspired music by Elivia on her singing crystal bowls. All are welcome to attend. \nLecture Service at  Harmony Grove Spiritualist Association is at 11:00 AM\, with Elivia as the Guest Minister. All Spiritualist church services provide a segment where there are Messages of Greeting and love given from the Spirit Realm. These provide evidence that communication with the dead is a so-called fact\, as evidenced with confirmation from the receivers. Not everyone in attendance will receive a message\, but often the messages are uplifting for all. \nFellowship Hall will be open afterward for light refreshments\, so join us! \nFollowing the Harmony Grove Spiritualist Association service at 12:30\, Elivia will host a Message Circle in the Healing Temple. \n~~~~~~~~~~~~~~~~~~~~~~~~~~~~~~~ \nBio: Reverend Elivia Melodey \nClairvoyant from birth\, Rev. Elivia Melodey developed her innate ability to read energy dowsing as a child.  She studied art at the Dutch Royal Academy and holds a Masters in Fine Art. She was ordained in 1985 by Nancy Tappe at Kairos Institute and was sanctioned as a Spiritualist minister at Harmony Grove in 2001. She served 4 terms on the Harmony Grove Board of Directors and was a founding member of the Educational Program. \nRev. Elivia holds numerous Masters level certifications for an array of Energy Healing Practices and is a Board-certified Past Life Regression and Hypnotherapist. As a conscious and deep trance medium\, she has the ability to communicate with those who have crossed over as well as with many other realms and dimensions. \nShe is an internationally acclaimed recording artist whose channeled music is used in healing and spiritual centers around the world. Her expertise is highlighted in the documentary film\, “Vibration for Healing – Sounds that Heal” \nRev. Elivia is an accomplished inspirational speaker and has been a  keynote & workshop presenter for many Spiritually based National Conferences. Over the last 30 years\, she has held numerous on-going classes\, workshops\, and retreats on Spiritual development as well as working with thousands of private clients.
URL:https://elivia.com/single-post-name/guest-minster-at-harmony-grove-spiritualist-assn-2/
CATEGORIES:Church Service
ATTACH;FMTTYPE=image/jpeg:https://elivia.com/wp-content/uploads/2015/09/hgsalogo22-copy.jpg
END:VEVENT
BEGIN:VEVENT
DTSTART;TZID=America/Los_Angeles:20190617T110000
DTEND;TZID=America/Los_Angeles:20190617T123000
DTSTAMP:20260424T162148
CREATED:20190326T212021Z
LAST-MODIFIED:20190326T212021Z
UID:10000008-1560769200-1560774600@elivia.com
SUMMARY:Guest Minister at the First Christian Spiritualist Church
DESCRIPTION:You are cordially invited to join Reverend Elivia this Sunday where she will be the Guest Minister at the First Christian Spiritualist Church in National City. A conscious trance medium\, Elivia’s lectures are always inspiring\, uplifting and thought-provoking. \nHealing Service at the First Christian Spiritualist Church is at 10:30 with inspired music by Elivia on her singing crystal bowls. All are welcome to attend. \nLecture Service at the First Christian Spiritualist Church is a 11:00 AM\, with Elivia as the Guest Minister. All Spiritualist church services provide a segment where there are Messages of Greeting and love given from the Spirit Realm. These provide evidence that communication with the dead is a so-called fact\, as evidenced with confirmation from the receivers. Not everyone in attendance will receive a message\, but often the messages are uplifting for all. \nAddress: 1206 Coolidge Ave\, National City\, CA 91950 \n \n1:30 ~ 3:00 PM  \nSinging Crystal Bowl Concert followed by Spirit Messages for All  \nElivia’s extraordinary channeled music on  \n20 + Singing Crystal Bowls\, Symphony Gong & Percussion  \nCreates profound new musical forms & Gateways to Awareness\, Assisting in healing on all levels\, Promoting Joy\, Deep Relaxation & Inner Peace \nSuggested Donation: $20 members\, $25 non-members \nBio: Reverend Elivia Melodey \nClairvoyant from birth\, Rev. Elivia Melodey developed her innate ability to read energy dowsing as a child.  She studied art at the Dutch Royal Academy and holds a Masters in Fine Art. She was ordained in 1985 by Nancy Tappe at Kairos Institute and was sanctioned as a Spiritualist minister at Harmony Grove in 2001. She served 4 terms on the Harmony Grove Board of Directors and was a founding member of the Educational Program. \nRev. Elivia holds numerous Masters level certifications for an array of Energy Healing Practices\, and is a Board-certified Past Life Regression and Hypnotherapist. As a conscious and deep trance medium\, she has the ability to communicate with those who have crossed over as well as with many other realms and dimensions. \nShe is an internationally acclaimed recording artist whose channeled music is used in healing and spiritual centers around the world. Her expertise is highlighted in the documentary film\, “Vibration for Healing – Sounds that Heal” \nRev. Elivia is an accomplished inspirational speaker and has been a  keynote & workshop presenter for many Spiritually based National Conferences. Over the last 30 years she has held numerous on-going classes\, workshops\, and retreats on Spiritual development as well as working with thousands of private clients. She deeply enjoys serving as a Guest Minister at Spiritualist Churches throughout Southern California.
URL:https://elivia.com/single-post-name/guest-minister-at-the-first-christian-spiritualist-church/
CATEGORIES:Church Service,Concerts
END:VEVENT
BEGIN:VEVENT
DTSTART;TZID=America/Los_Angeles:20190512T103000
DTEND;TZID=America/Los_Angeles:20190512T120000
DTSTAMP:20260424T162148
CREATED:20190326T213543Z
LAST-MODIFIED:20190326T213543Z
UID:10000009-1557657000-1557662400@elivia.com
SUMMARY:Guest Minster at Harmony Grove Spiritualist Assn.
DESCRIPTION:You are cordially invited to join Elivia this Sunday where she will be the Guest Minister at Harmony Grove Spiritualist Association. She has been serving Harmony Grove as a Guest Minister for over 18 years. A conscious trance medium\, Elivia’s lectures are always inspiring\, uplifting and thought-provoking. \nHealing Service at Harmony Grove Spiritualist Association is at 10:30 with inspired music by Elivia on her singing crystal bowls. All are welcome to attend. \nLecture Service at  Harmony Grove Spiritualist Association is a 11:00 AM\, with Elivia as the Guest Minister. All Spiritualist church services provide a segment where there are Messages of Greeting and love given from the Spirit Realm. These provide evidence that communication with the dead is a so-called fact\, as evidenced with confirmation from the receivers. Not everyone in attendance will receive a message\, but often the messages are uplifting for all. \nFellowship Hall will be open afterward for light refreshments\, so join us! \nFollowing the Harmony Grove Spiritualist Association service at 12:30\, Elivia will host a Message Circle in the Healing Temple. \n~~~~~~~~~~~~~~~~~~~~~~~~~~~~~~~ \nBio: Reverend Elivia Melodey \nClairvoyant from birth\, Rev. Elivia Melodey developed her innate ability to read energy dowsing as a child.  She studied art at the Dutch Royal Academy and holds a Masters in Fine Art. She was ordained in 1985 by Nancy Tappe at Kairos Institute and was sanctioned as a Spiritualist minister at Harmony Grove in 2001. She served 4 terms on the Harmony Grove Board of Directors and was a founding member of the Educational Program. \nRev. Elivia holds numerous Masters level certifications for an array of Energy Healing Practices and is a Board certified Past Life Regression and Hypnotherapist. As a conscious and deep trance medium\, she has the ability to communicate with those who have crossed over as well as with many other realms and dimensions. \nShe is an internationally acclaimed recording artist whose channeled music is used in healing and spiritual centers round the world. Her expertise is highlighted in the documentary film\, “Vibration for Healing – Sounds that Heal” \nRev. Elivia is an accomplished inspirational speaker and has been a  keynote & workshop presenter for many Spiritually based National Conferences. Over the last 30 years she has held numerous on-going classes\, workshops and retreats on Spiritual development as well as working with thousands of private clients.
URL:https://elivia.com/single-post-name/guest-minster-at-harmony-grove-spiritualist-assn-3/
CATEGORIES:Church Service
ATTACH;FMTTYPE=image/jpeg:https://elivia.com/wp-content/uploads/2015/09/hgsalogo22-copy.jpg
END:VEVENT
BEGIN:VEVENT
DTSTART;TZID=America/Los_Angeles:20190421T100000
DTEND;TZID=America/Los_Angeles:20190421T120000
DTSTAMP:20260424T162148
CREATED:20190326T210318Z
LAST-MODIFIED:20190326T210318Z
UID:10000006-1555840800-1555848000@elivia.com
SUMMARY:Guest Minister at 1st Spiritualist Church of San Diego
DESCRIPTION:Ordained in 1985\, Rev. Elivia will be the guest minister for the Healing and Lecture service at the 1st Spiritualist Church of San Diego. \nThe Spiritual Healing Service begins at 10 AM. All are welcome to attend. \nThe Lecture – Spiritualist Church Service begins at 11 AM. Rev. Elivia is an inspirational speaker with much to share. Come have your Spirits fed with supportive and enlightening words straight from Source to your heart!! \nMessages from Spirit are a part of all Spiritualist Church services\, as one of their Principles is that “Communication with the Dead is a so-called fact\, as demonstrated through mediumship. This demonstration takes place every Sunday. Elivia and others will be bringing Spirit Messages to selected members of the congregation. \nAlso join us for refreshments\, snacks\, & conversation in Johnson’s Hall immediately after the Lecture Service!\nRev. Elivia Melodey has been a practicing Spiritualist medium since 1985. She is the former Director of Education at Harmony Grove Spiritualist Association in San Diego and is  highly respected for her accuracy and Mediumship Development skills. Many of her past students are now professional mediums. She has been a keynote speaker at numerous national conferences and has been featured in many media outlets.
URL:https://elivia.com/single-post-name/guest-minister-at-1st-spiritualist-church-of-san-diego/
CATEGORIES:Church Service
ATTACH;FMTTYPE=:
END:VEVENT
END:VCALENDAR