BEGIN:VCALENDAR
VERSION:2.0
PRODID:-//Elivia.com - ECPv6.15.20//NONSGML v1.0//EN
CALSCALE:GREGORIAN
METHOD:PUBLISH
X-WR-CALNAME:Elivia.com
X-ORIGINAL-URL:https://elivia.com
X-WR-CALDESC:Events for Elivia.com
REFRESH-INTERVAL;VALUE=DURATION:PT1H
X-Robots-Tag:noindex
X-PUBLISHED-TTL:PT1H
BEGIN:VTIMEZONE
TZID:UTC
BEGIN:STANDARD
TZOFFSETFROM:+0000
TZOFFSETTO:+0000
TZNAME:UTC
DTSTART:20250101T000000
END:STANDARD
END:VTIMEZONE
BEGIN:VEVENT
DTSTART;TZID=UTC:20260104T103000
DTEND;TZID=UTC:20260104T120000
DTSTAMP:20260423T234215
CREATED:20251126T003556Z
LAST-MODIFIED:20251126T003556Z
UID:10000514-1767522600-1767528000@elivia.com
SUMMARY:Guest Minister at Fraternal Spiritualist Church in Kensington
DESCRIPTION:Begin this New Year with her inspiring message on Setting Intention and charting your course for the twelve months ahead. As an inspirational speaker\, you are sure to be uplifted and inspired by the words she’ll have to share that day. So I hope you can join us. \nRev. Elivia Melodey will be the guest minister for the Lecture Service at the Fraternal Spiritualist Church in San Diego. \nService Times\nJoin us every Sunday for some spiritual love and guidance. Also\, join us for coffee before service and get to know some amazing people. \n\n\n\nHealing Service: 9:30 am – 10:10 am\nSunday Service: 10:30 am – 12:00 pm\n\n\n\nThe Fraternal Spiritualist Church of San Diego was founded in 1932 and has had a long and colorful history. From the beginning\, this Church has provided its members with spiritual guidance\, education and social fellowship. The Church emphasizes spiritual development first and psychic development thereafter. Of all of the spiritual gifts\, such as clairvoyance\, clairsentience\, trance\, materialization\, apport\, and others\, we consider healing to be the greatest gift. We believe that through service as a healer\, we channel God’s healing love to others as well as to ourselves. \n  \n \nReverend Elivia Melodey \n \nClairvoyant from birth\, Rev. Elivia Melodey developed her innate ability to read energy dowsing as a child. She studied at the Dutch Royal Academy and holds a Masters in Fine Art. She was ordained in 1985 by Rev. Nancy Tappe at Kai-ros Institute and was sanctioned as a Spiritualist minister at Harmony Grove in 2001. She served 4 terms on the Harmony Grove Board of Directors. \nRev. Elivia holds numerous Masters level certifications for an array of energy healing practices and is a Board certified Past Life Regression and Hypnotherapist. As a conscious trance medium\, she has the ability to communicate with many realms and dimensions. \nShe is an internationally acclaimed recording artist whose channeled music is highlighted in the documentary film\, “Vibration for Healing – Sounds that Heal.” \nRev. Elivia is an accomplished inspirational speaker and has been a keynote and workshop presenter for many spiritually based conferences. Over the past 40 years\, she has held numerous on-going development classes\, workshops and retreats as well as working with thousands of private clients.
URL:https://elivia.com/single-post-name/guest-minister-at-fraternal-spiritualist-church-in-kensington/
LOCATION:Fraternal Spiritualist Church\, 4720 Kensington Drive\, San Diego\, CA\, 92116\, United States
CATEGORIES:Church Service
ATTACH;FMTTYPE=image/jpeg:https://elivia.com/wp-content/uploads/2021/11/FSC_Logo_Color-1210x374-1-e1764116475937.jpg
END:VEVENT
END:VCALENDAR