BEGIN:VCALENDAR
VERSION:2.0
PRODID:-//Elivia.com - ECPv6.15.20//NONSGML v1.0//EN
CALSCALE:GREGORIAN
METHOD:PUBLISH
X-WR-CALNAME:Elivia.com
X-ORIGINAL-URL:https://elivia.com
X-WR-CALDESC:Events for Elivia.com
REFRESH-INTERVAL;VALUE=DURATION:PT1H
X-Robots-Tag:noindex
X-PUBLISHED-TTL:PT1H
BEGIN:VTIMEZONE
TZID:UTC
BEGIN:STANDARD
TZOFFSETFROM:+0000
TZOFFSETTO:+0000
TZNAME:UTC
DTSTART:20240101T000000
END:STANDARD
END:VTIMEZONE
BEGIN:VEVENT
DTSTART;TZID=UTC:20251225T000000
DTEND;TZID=UTC:20251225T233000
DTSTAMP:20260424T063547
CREATED:20251125T231543Z
LAST-MODIFIED:20251125T231544Z
UID:10000513-1766620800-1766705400@elivia.com
SUMMARY:Merry Christmas & Happiest of Holidays
DESCRIPTION:
URL:https://elivia.com/single-post-name/merry-christmas-happiest-of-holidays/
LOCATION:CA
CATEGORIES:Special Event
ATTACH;FMTTYPE=image/gif:https://elivia.com/wp-content/uploads/2025/11/christmas-candle-wreath-2018.gif
END:VEVENT
END:VCALENDAR